BEGIN:VCALENDAR
PRODID:NingEventWidget-v1
VERSION:2.0
METHOD:PUBLISH
BEGIN:VTIMEZONE
TZID:Pacific/Midway
X-LIC-LOCATION:Pacific/Midway
BEGIN:STANDARD
TZOFFSETFROM:-1100
TZOFFSETTO:-1100
TZNAME:SST
DTSTART:19700101T000000
END:STANDARD
END:VTIMEZONE
BEGIN:VEVENT
UID:5072275:Event:475679
DTSTAMP:20260423T083406Z
SUMMARY:Annual Corvettes For A Cause -Loganville, GA
DESCRIPTION:Corvette Cruisers of Atlanta Presents on April 7th\nAn All
  Corvette Show \"Corvettes For A Cause\"\nLocation Maxie Price Chevrol
 et\nTime 9AM-2PM\n19 Trophies Top 16 and 3 Sponsor Choice\nPlus a Comm
 emorative Plaque\n50/50 - Auctions -Door Prizes - Music -Food and Drin
 k\n100% of Funds raised will be for a Local Husband and Wife , Both re
 covering from Major Medical Expenses. Go to our Website for Flyer-www.
 corvettecruisersofatlanta.com\n\nFor more information visit https://ww
 w.southeastwheelsevents.com/events/annual-corvettes-for-a-cause
DTSTART;TZID=Pacific/Midway:20120407T090000
DTEND;TZID=Pacific/Midway:20120407T140000
CATEGORIES:all, corvette, car, show
LOCATION:Maxie Price Chevrolet
WEBSITE:http://www.corvettecruisersofatlanta.com
URL:http://www.corvettecruisersofatlanta.com
CONTACT:404-421-4429
ORGANIZER:Corvette Cruisers of Atlanta
ATTACH;FMTTYPE="image/jpeg":http://storage.ning.com/topology/rest/1.0/
 file/get/967610888?profile=original
ATTENDEE;ROLE=REQ-PARTICIPANT;PARTSTAT=ACCEPTED;RSVP=TRUE;CN="Robert K
 . Chitty":https://www.southeastwheelsevents.com/profile/RobertKChitty
END:VEVENT
END:VCALENDAR
