BEGIN:VCALENDAR
PRODID:NingEventWidget-v1
VERSION:2.0
METHOD:PUBLISH
BEGIN:VTIMEZONE
TZID:Pacific/Midway
X-LIC-LOCATION:Pacific/Midway
BEGIN:STANDARD
TZOFFSETFROM:-1100
TZOFFSETTO:-1100
TZNAME:SST
DTSTART:19700101T000000
END:STANDARD
END:VTIMEZONE
BEGIN:VEVENT
UID:5072275:Event:1103257
DTSTAMP:20260421T035215Z
SUMMARY:Annual Fall Festival and All Corvette Show - Savannah, Ga
DESCRIPTION:Annual Fall Festival and All Corvette Show at The Village 
 on Skidaway Island.\n\nFor more information visit https://www.southeas
 twheelsevents.com/events/annual-fall-festival-and-all-corvette-show-sa
 vannah-ga
DTSTART;TZID=Pacific/Midway:20181027T090000
DTEND;TZID=Pacific/Midway:20181027T150000
CATEGORIES:car, show, cruise, in
LOCATION:The Village,
WEBSITE:http://coastalcorvetteassociatton.com
URL:http://coastalcorvetteassociatton.com
CONTACT:(912) 547-6097
ORGANIZER:Bill Flammer
ATTACH;FMTTYPE="image/jpeg":http://storage.ning.com/topology/rest/1.0/
 file/get/967800380?profile=original
ATTENDEE;ROLE=REQ-PARTICIPANT;PARTSTAT=ACCEPTED;RSVP=TRUE;CN="Anthony 
 Hopkins":https://www.southeastwheelsevents.com/profile/AnthonyHopkins
END:VEVENT
END:VCALENDAR
