BEGIN:VCALENDAR
PRODID:NingEventWidget-v1
VERSION:2.0
METHOD:PUBLISH
BEGIN:VTIMEZONE
TZID:Pacific/Midway
X-LIC-LOCATION:Pacific/Midway
BEGIN:STANDARD
TZOFFSETFROM:-1100
TZOFFSETTO:-1100
TZNAME:SST
DTSTART:19700101T000000
END:STANDARD
END:VTIMEZONE
BEGIN:VEVENT
UID:5072275:Event:684110
DTSTAMP:20260424T104726Z
SUMMARY:Annual Fall Pony Roundup -Lawrenceville, GA
DESCRIPTION:Northeast Georgia Mustang Club presents the Annual Fall Po
 ny Roundup at Mustangs Unlimited, 2505 Newpoint Pkwy, Lawrenceville, G
 A on Saturday 10/19 (raindate Sunday 10/20) for Ford-Bodied and Ford-P
 owered vehicles from 10-4PM, registration until 12PM.  $15 or a new u
 nwrapped toy, all proceeds of show benefit Toys for Tots Foundation. 
  This is a popular vote, Top 20 show.  Info: Rick 678-371-5799 or jrh
 ayslip@yahoo.com or www.negeorgiamustangclub.org\n\nFor more informati
 on visit https://www.southeastwheelsevents.com/events/annual-fall-pony
 -roundup
DTSTART;TZID=Pacific/Midway:20131019T100000
DTEND;TZID=Pacific/Midway:20131019T160000
CATEGORIES:charity, show
LOCATION:Mustangs Unlimited
WEBSITE:http://www.negeorgiamustangclub.org
URL:http://www.negeorgiamustangclub.org
CONTACT:678-371-5799
ORGANIZER;CN="Rick Hayslip":https://www.southeastwheelsevents.com/prof
 ile/RickHayslip
ATTACH;FMTTYPE="image/jpeg":
ATTENDEE;ROLE=REQ-PARTICIPANT;PARTSTAT=ACCEPTED;RSVP=TRUE;CN="Jack Tho
 mas":https://www.southeastwheelsevents.com/profile/JackThomas
ATTENDEE;ROLE=REQ-PARTICIPANT;PARTSTAT=ACCEPTED;RSVP=TRUE;CN="Rick Hay
 slip":https://www.southeastwheelsevents.com/profile/RickHayslip
END:VEVENT
END:VCALENDAR
