BEGIN:VCALENDAR
PRODID:NingEventWidget-v1
VERSION:2.0
METHOD:PUBLISH
BEGIN:VTIMEZONE
TZID:Pacific/Midway
X-LIC-LOCATION:Pacific/Midway
BEGIN:STANDARD
TZOFFSETFROM:-1100
TZOFFSETTO:-1100
TZNAME:SST
DTSTART:19700101T000000
END:STANDARD
END:VTIMEZONE
BEGIN:VEVENT
UID:5072275:Event:1263289
DTSTAMP:20260423T084909Z
SUMMARY:Annual Ford Town Baptist Church Car Show -Lafollette, TN
DESCRIPTION:Annual Ford Town Baptist Church Car Show -Lafollette, TN\n
 \nFor more information visit https://www.southeastwheelsevents.com/eve
 nts/annual-ford-town-baptist-church-car-show-lafollette-tn
DTSTART;TZID=Pacific/Midway:20240720T090000
DTEND;TZID=Pacific/Midway:20240720T150000
CATEGORIES:car, show, youth
LOCATION:1616 Loop Road
WEBSITE:
URL:
CONTACT:606-627-0748
ORGANIZER:
ATTACH;FMTTYPE="image/jpeg":https://storage.ning.com/topology/rest/1.0
 /file/get/12421191296?profile=original
ATTENDEE;ROLE=REQ-PARTICIPANT;PARTSTAT=ACCEPTED;RSVP=TRUE;CN="Chuck Aa
 ron":https://www.southeastwheelsevents.com/profile/ChuckAaron886
END:VEVENT
END:VCALENDAR
