BEGIN:VCALENDAR
PRODID:NingEventWidget-v1
VERSION:2.0
METHOD:PUBLISH
BEGIN:VTIMEZONE
TZID:Pacific/Midway
X-LIC-LOCATION:Pacific/Midway
BEGIN:STANDARD
TZOFFSETFROM:-1100
TZOFFSETTO:-1100
TZNAME:SST
DTSTART:19700101T000000
END:STANDARD
END:VTIMEZONE
BEGIN:VEVENT
UID:5072275:Event:1084992
DTSTAMP:20260422T055559Z
SUMMARY:Annual Headquarters Car Show- Granite Falls NC
DESCRIPTION:Car Show benefiting Safe Harbor a Christian Women’s Mini
 stry that supports battered and addicted women, getting them back into
  the community. Also Honoring Veteran’s\r\n$20.00 Donation per car. 
 Cars will be Judged for awards 40 Awards will be given out Food and Be
 verages will be available for purchase\r\nContact for information Scot
 t Good 704-8981 Rscottgood66@gmail.com\n\nFor more information visit h
 ttps://www.southeastwheelsevents.com/events/annual-headquarters-car-sh
 ow-granite-falls-nc
DTSTART;TZID=Pacific/Midway:20220917T090000
DTEND;TZID=Pacific/Midway:20220917T150000
CATEGORIES:car, show
LOCATION:5250 Dusty Lane
WEBSITE:
URL:
CONTACT:(704)864-0324
ORGANIZER:Scott Good
ATTACH;FMTTYPE="image/jpeg":http://storage.ning.com/topology/rest/1.0/
 file/get/967771086?profile=original
ATTENDEE;ROLE=REQ-PARTICIPANT;PARTSTAT=ACCEPTED;RSVP=TRUE;CN="Anthony 
 Hopkins":https://www.southeastwheelsevents.com/profile/AnthonyHopkins
END:VEVENT
END:VCALENDAR
