BEGIN:VCALENDAR
PRODID:NingEventWidget-v1
VERSION:2.0
METHOD:PUBLISH
BEGIN:VTIMEZONE
TZID:Pacific/Midway
X-LIC-LOCATION:Pacific/Midway
BEGIN:STANDARD
TZOFFSETFROM:-1100
TZOFFSETTO:-1100
TZNAME:SST
DTSTART:19700101T000000
END:STANDARD
END:VTIMEZONE
BEGIN:VEVENT
UID:5072275:Event:907177
DTSTAMP:20260423T114251Z
SUMMARY:Annual Home Depot Car Show -Holly Springs, GA
DESCRIPTION:HOLLY SPRINGS, GA - 1st Annual Home Depot Car Show, Holly
  Springs Home Depot #6943, 10:00am - 4:00pm,Information:  Heather at 
 (770) 928-1574  x550,  Flyer\n\nFor more information visit https://
 www.southeastwheelsevents.com/events/annual-home-depot-car-show-holly-
 springs-ga
DTSTART;TZID=Pacific/Midway:20150711T100000
DTEND;TZID=Pacific/Midway:20150711T160000
CATEGORIES:car-show
LOCATION:Holly Springs Home Depot
WEBSITE:http://www.creeperscarclub.org/
URL:http://www.creeperscarclub.org/
CONTACT:Heather 770-928-1574
ORGANIZER:Home Depot
ATTACH;FMTTYPE="image/jpeg":http://storage.ning.com/topology/rest/1.0/
 file/get/967689279?profile=original
ATTENDEE;ROLE=REQ-PARTICIPANT;PARTSTAT=ACCEPTED;RSVP=TRUE;CN="Chuck Aa
 ron":https://www.southeastwheelsevents.com/profile/ChuckAaron
ATTENDEE;ROLE=REQ-PARTICIPANT;PARTSTAT=TENTATIVE;RSVP=TRUE;CN="robbie 
 padgett":https://www.southeastwheelsevents.com/profile/robbiepadgett
END:VEVENT
END:VCALENDAR
