BEGIN:VCALENDAR
PRODID:NingEventWidget-v1
VERSION:2.0
METHOD:PUBLISH
BEGIN:VTIMEZONE
TZID:Pacific/Midway
X-LIC-LOCATION:Pacific/Midway
BEGIN:STANDARD
TZOFFSETFROM:-1100
TZOFFSETTO:-1100
TZNAME:SST
DTSTART:19700101T000000
END:STANDARD
END:VTIMEZONE
BEGIN:VEVENT
UID:5072275:Event:1031388
DTSTAMP:20260423T172006Z
SUMMARY:Annual Lula Belton Historical Society Car Show Lula, GA
DESCRIPTION:The Annual Lula Belton Historical Society Car Show will be
  held at Rafe Banks Park June 24, 2017.  Come enjoy door prizes, food
  and drink, and fantastic entertainment.  No judging, peoples choice.
  Plaques will be awarded to the top 10 best in show.  All proceeds go
  to help with the upkeep of the historical Belton Cemetery.  Entry fe
 e, day of show $20.00.\n\nFor more information visit https://www.south
 eastwheelsevents.com/events/annual-lula-belton-historical-society-car-
 show-lula-ga
DTSTART;TZID=Pacific/Midway:20170624T100000
DTEND;TZID=Pacific/Midway:20170624T140000
CATEGORIES:fundraiser, "belton cemetery"
LOCATION:Rafe Banks Park Lula, GA
WEBSITE:https://www.facebook.com/lulabeltonhistoricalsociety/
URL:https://www.facebook.com/lulabeltonhistoricalsociety/
CONTACT:7066772016
ORGANIZER;CN="Chris Lusink":https://www.southeastwheelsevents.com/prof
 ile/ChrisLusink
ATTACH;FMTTYPE="image/jpeg":http://storage.ning.com/topology/rest/1.0/
 file/get/967732792?profile=original
ATTENDEE;ROLE=REQ-PARTICIPANT;PARTSTAT=ACCEPTED;RSVP=TRUE;CN="Chuck Aa
 ron":https://www.southeastwheelsevents.com/profile/ChuckAaron886
ATTENDEE;ROLE=REQ-PARTICIPANT;PARTSTAT=ACCEPTED;RSVP=TRUE;CN="Chris Lu
 sink":https://www.southeastwheelsevents.com/profile/ChrisLusink
END:VEVENT
END:VCALENDAR
