BEGIN:VCALENDAR
PRODID:NingEventWidget-v1
VERSION:2.0
METHOD:PUBLISH
BEGIN:VTIMEZONE
TZID:Pacific/Midway
X-LIC-LOCATION:Pacific/Midway
BEGIN:STANDARD
TZOFFSETFROM:-1100
TZOFFSETTO:-1100
TZNAME:SST
DTSTART:19700101T000000
END:STANDARD
END:VTIMEZONE
BEGIN:VEVENT
UID:5072275:Event:1076239
DTSTAMP:20260424T115613Z
SUMMARY:Annual Polar Bear Benefit Bike Ride -Lugoff, SC
DESCRIPTION:\r\n\r\n\r\n\r\nAnnual Polar Bear Benefit\r\n\r\n\r\nEvent
  Date/Time\r\nSaturday, February 10, 2018 11:00 AM\r\n\r\n\r\nEvent Ty
 pe\r\nBenefit - Charity\r\n\r\n\r\nEvent Description\r\nGet you cool w
 eather gear and join us on a ride to benefit Tucker Veterans Home   $
 10 Single - $15 2up   First Bikes out at noon\r\n\r\n\r\nLocation\r\n
 Gadgets of Lugoff\r\n\r\n\r\nAddress\r\n96 US-601  \r\n\r\n\r\nCity\
 r\nLugoff\r\n\r\n\r\nState\r\nSOUTH CAROLINA\r\n\r\n\r\nZip\r\n29078\r
 \n\r\n\r\nContact Phone\r\n(803) 467-5117 - Darwin\r\n\r\n\r\n\n\nFor 
 more information visit https://www.southeastwheelsevents.com/events/an
 nual-polar-bear-benefit-lugoff-sc
DTSTART;TZID=Pacific/Midway:20180210T110000
DTEND;TZID=Pacific/Midway:20180210T160000
CATEGORIES:bike, show, ride, charity
LOCATION:Gadgets of Lugoff
WEBSITE:
URL:
CONTACT:(803) 467-5117 - Darwin
ORGANIZER:
ATTACH;FMTTYPE="image/jpeg":http://storage.ning.com/topology/rest/1.0/
 file/get/967757489?profile=original
ATTENDEE;ROLE=REQ-PARTICIPANT;PARTSTAT=ACCEPTED;RSVP=TRUE;CN="Chuck Aa
 ron":https://www.southeastwheelsevents.com/profile/ChuckAaron886
END:VEVENT
END:VCALENDAR
