BEGIN:VCALENDAR
PRODID:NingEventWidget-v1
VERSION:2.0
METHOD:PUBLISH
BEGIN:VTIMEZONE
TZID:Pacific/Midway
X-LIC-LOCATION:Pacific/Midway
BEGIN:STANDARD
TZOFFSETFROM:-1100
TZOFFSETTO:-1100
TZNAME:SST
DTSTART:19700101T000000
END:STANDARD
END:VTIMEZONE
BEGIN:VEVENT
UID:5072275:Event:929316
DTSTAMP:20260422T231345Z
SUMMARY:Annual Sedge Garden United Methodist Car Show and Silent Aucti
 on
DESCRIPTION:\n\nFor more information visit https://www.southeastwheels
 events.com/events/annual-sedge-garden-united-methodist-car-show-and-si
 lent-auction
DTSTART;TZID=Pacific/Midway:20150912T180000
DTEND;TZID=Pacific/Midway:20150912T190000
CATEGORIES:car-show, fundraiser
LOCATION:Sedge Garden United Methodist
WEBSITE:http://www.sedgegardenumc.org/
URL:http://www.sedgegardenumc.org/
CONTACT:336-486-3541  aleidholm@triad.rr.com
ORGANIZER:Sedge Garden United Methodist
ATTACH;FMTTYPE="image/jpeg":http://storage.ning.com/topology/rest/1.0/
 file/get/967693646?profile=original
END:VEVENT
END:VCALENDAR
