BEGIN:VCALENDAR
PRODID:NingEventWidget-v1
VERSION:2.0
METHOD:PUBLISH
BEGIN:VTIMEZONE
TZID:Pacific/Midway
X-LIC-LOCATION:Pacific/Midway
BEGIN:STANDARD
TZOFFSETFROM:-1100
TZOFFSETTO:-1100
TZNAME:SST
DTSTART:19700101T000000
END:STANDARD
END:VTIMEZONE
BEGIN:VEVENT
UID:5072275:Event:1183644
DTSTAMP:20260423T233031Z
SUMMARY:Annual st. Clare Seafood festival - Waveland, Ms
DESCRIPTION:The St Clare Seafood Festival needs to thank the business 
 network support from nearby organizations. Your help helped our celebr
 ation a staggering achievement.\n\nFor more information visit https://
 www.southeastwheelsevents.com/events/annual-st-clare-seafood-festival-
 waveland-ms
DTSTART;TZID=Pacific/Midway:20200522T170000
DTEND;TZID=Pacific/Midway:20200524T230000
CATEGORIES:car, show, cruise-in
LOCATION:St. Clare Catholic Church,
WEBSITE:https://www.google.com/maps?q=St.+Clare+Catholic+Church,+236+S
 outh+Beach+Blvd,+Waveland&amp;um=1&amp;ie=UTF-8&amp;sa=X&amp;ved=2ahUK
 EwiNnseBmcLmAhXV73MBHTayA4AQ_AUoAXoECBgQAw
URL:https://www.google.com/maps?q=St.+Clare+Catholic+Church,+236+South
 +Beach+Blvd,+Waveland&amp;um=1&amp;ie=UTF-8&amp;sa=X&amp;ved=2ahUKEwiN
 nseBmcLmAhXV73MBHTayA4AQ_AUoAXoECBgQAw
CONTACT:(228) 467-9275
ORGANIZER:
ATTACH;FMTTYPE="image/jpeg":https://storage.ning.com/topology/rest/1.0
 /file/get/874745500?profile=original
ATTENDEE;ROLE=REQ-PARTICIPANT;PARTSTAT=ACCEPTED;RSVP=TRUE;CN="Anthony 
 Hopkins":https://www.southeastwheelsevents.com/profile/AnthonyHopkins
END:VEVENT
END:VCALENDAR
