BEGIN:VCALENDAR
PRODID:NingEventWidget-v1
VERSION:2.0
METHOD:PUBLISH
BEGIN:VTIMEZONE
TZID:Pacific/Midway
X-LIC-LOCATION:Pacific/Midway
BEGIN:STANDARD
TZOFFSETFROM:-1100
TZOFFSETTO:-1100
TZNAME:SST
DTSTART:19700101T000000
END:STANDARD
END:VTIMEZONE
BEGIN:VEVENT
UID:5072275:Event:1099269
DTSTAMP:20260420T062323Z
SUMMARY:Annual Thunder In The Valley Car and Motorcycle Show - Dawsonv
 ille, Ga
DESCRIPTION:Annual Thunder In The Valley Car and  Motorcycle Show at 
 Paradise Valley Resort.\n\nFor more information visit https://www.sout
 heastwheelsevents.com/events/annual-thunder-in-the-valley-car-and-moto
 rcycle-show-dawsonville
DTSTART;TZID=Pacific/Midway:20180922T090000
DTEND;TZID=Pacific/Midway:20180922T150000
CATEGORIES:car, and, motorcycle, show
LOCATION:Paradise Valley Resort,
WEBSITE:http://paradisevalleyclub.com
URL:http://paradisevalleyclub.com
CONTACT:(706) 265-6110
ORGANIZER:
ATTACH;FMTTYPE="image/jpeg":http://storage.ning.com/topology/rest/1.0/
 file/get/967798616?profile=original
ATTENDEE;ROLE=REQ-PARTICIPANT;PARTSTAT=ACCEPTED;RSVP=TRUE;CN="Anthony 
 Hopkins":https://www.southeastwheelsevents.com/profile/AnthonyHopkins
END:VEVENT
END:VCALENDAR
