BEGIN:VCALENDAR
PRODID:NingEventWidget-v1
VERSION:2.0
METHOD:PUBLISH
BEGIN:VTIMEZONE
TZID:Pacific/Midway
X-LIC-LOCATION:Pacific/Midway
BEGIN:STANDARD
TZOFFSETFROM:-1100
TZOFFSETTO:-1100
TZNAME:SST
DTSTART:19700101T000000
END:STANDARD
END:VTIMEZONE
BEGIN:VEVENT
UID:5072275:Event:714978
DTSTAMP:20260423T163732Z
SUMMARY:Annual Truck & Car Show -Jacksonville, GA
DESCRIPTION:\nAnnual show will be held on 9 November 2013 at the Budwe
 iser Plant at 111 Busch Drive,Jacksonville, FL 32218\n(904) 696-8373 
 \n\nShow Registration Form, download here.\n\nFor more information vis
 it https://www.southeastwheelsevents.com/events/annual-truck-car-show-
 jacksonville-ga
DTSTART;TZID=Pacific/Midway:20131109T080000
DTEND;TZID=Pacific/Midway:20131109T150000
CATEGORIES:car, "&", truck, show
LOCATION:Budweiser Plant
WEBSITE:http://firstcoastf100f1.com/annual-show
URL:http://firstcoastf100f1.com/annual-show
CONTACT:(904) 696-8373
ORGANIZER:First Coast F100/F1 Truck Club of Jacksonville Florida
ATTACH;FMTTYPE="image/jpeg":http://storage.ning.com/topology/rest/1.0/
 file/get/967647952?profile=original
ATTENDEE;ROLE=REQ-PARTICIPANT;PARTSTAT=ACCEPTED;RSVP=TRUE;CN="Jack Tho
 mas":https://www.southeastwheelsevents.com/profile/JackThomas
END:VEVENT
END:VCALENDAR
