BEGIN:VCALENDAR
PRODID:NingEventWidget-v1
VERSION:2.0
METHOD:PUBLISH
BEGIN:VTIMEZONE
TZID:Pacific/Midway
X-LIC-LOCATION:Pacific/Midway
BEGIN:STANDARD
TZOFFSETFROM:-1100
TZOFFSETTO:-1100
TZNAME:SST
DTSTART:19700101T000000
END:STANDARD
END:VTIMEZONE
BEGIN:VEVENT
UID:5072275:Event:1062524
DTSTAMP:20260419T164131Z
SUMMARY:Antique Acres Old Time Power Show
DESCRIPTION:ANTIQUE ACRES OLD TIME POWER SHOW this week!\nAugust 18-20
 , 2017.\nGates will open at 7am each day. View vintage tractors, truck
 s, cars and motorcycles, enjoy live stage entertainment, tractor rodeo
 , the Parade of Power, huge flea market, horse plowing, threshing, bla
 cksmith shop, family fun activities, and so much more! https://www.fac
 ebook.com/Antique-Acres-113556145332335/\n\nFor more information visit
  https://www.southeastwheelsevents.com/events/antique-acres-old-time-p
 ower-show
DTSTART;TZID=Pacific/Midway:20170818T070000
DTEND;TZID=Pacific/Midway:20170820T170000
CATEGORIES:annual, event
LOCATION:North of Cedar Falls, IA
WEBSITE:
URL:
CONTACT:
ORGANIZER:Antique Acres
ATTACH;FMTTYPE="image/jpeg":
ATTENDEE;ROLE=REQ-PARTICIPANT;PARTSTAT=ACCEPTED;RSVP=TRUE;CN="Marty Do
 rfman":https://www.southeastwheelsevents.com/profile/MartyDorfman
END:VEVENT
END:VCALENDAR
