BEGIN:VCALENDAR
PRODID:NingEventWidget-v1
VERSION:2.0
METHOD:PUBLISH
BEGIN:VTIMEZONE
TZID:Pacific/Midway
X-LIC-LOCATION:Pacific/Midway
BEGIN:STANDARD
TZOFFSETFROM:-1100
TZOFFSETTO:-1100
TZNAME:SST
DTSTART:19700101T000000
END:STANDARD
END:VTIMEZONE
BEGIN:VEVENT
UID:5072275:Event:1182746
DTSTAMP:20260424T052320Z
SUMMARY:Antique Auto Club Car Show and Swap Meet - Asheville (Fletcher
 ), NC
DESCRIPTION:The occasion is held at the WNC Agriculture Center situate
 d over the street from the Asheville NC Regional Airport simply off I-
 26. Again this year Tom Mack Auctions will direct an exemplary vehicle
  sell off June 13 in the Davis Event Center situated nearby.\n\nFor To
 m Mack auction information contact tmack@tommackclassics.com or call
  803-364-3322.\n\nFor more information visit https://www.southeastwhee
 lsevents.com/events/antique-auto-club-car-show-and-swap-meet-asheville
 -fletcher-nc
DTSTART;TZID=Pacific/Midway:20200612T000000
DTEND;TZID=Pacific/Midway:20200613T235900
CATEGORIES:car, show, cruise-in
LOCATION:WNC Agriculture Center,
WEBSITE:https://www.google.com/maps/place/WNC+Agricultural+Center/@35.
 4277733,-82.5345198,17z/data=!4m8!1m2!2m1!1sWNC+Agriculture+Center!3m4
 !1s0x8859ec9c148fdd25:0xe786225fc85a6143!8m2!3d35.426916!4d-82.5335938
URL:https://www.google.com/maps/place/WNC+Agricultural+Center/@35.4277
 733,-82.5345198,17z/data=!4m8!1m2!2m1!1sWNC+Agriculture+Center!3m4!1s0
 x8859ec9c148fdd25:0xe786225fc85a6143!8m2!3d35.426916!4d-82.5335938
CONTACT:828-558-1733; 803-364-3322
ORGANIZER:Ronnie Mathis; Tom Mack
ATTACH;FMTTYPE="image/jpeg":https://storage.ning.com/topology/rest/1.0
 /file/get/3708337689?profile=original
ATTENDEE;ROLE=REQ-PARTICIPANT;PARTSTAT=ACCEPTED;RSVP=TRUE;CN="Anthony 
 Hopkins":https://www.southeastwheelsevents.com/profile/AnthonyHopkins
END:VEVENT
END:VCALENDAR
