BEGIN:VCALENDAR
PRODID:NingEventWidget-v1
VERSION:2.0
METHOD:PUBLISH
BEGIN:VTIMEZONE
TZID:Pacific/Midway
X-LIC-LOCATION:Pacific/Midway
BEGIN:STANDARD
TZOFFSETFROM:-1100
TZOFFSETTO:-1100
TZNAME:SST
DTSTART:19700101T000000
END:STANDARD
END:VTIMEZONE
BEGIN:VEVENT
UID:5072275:Event:1199471
DTSTAMP:20260420T010100Z
SUMMARY:Antique Car and Truck Show - Brooksville, Fl
DESCRIPTION:This car show is organized each month on the third Sunday.
 \n\nFor more information visit https://www.southeastwheelsevents.com/e
 vents/antique-car-and-truck-show-brooksville-fl
DTSTART;TZID=Pacific/Midway:20210321T070000
DTEND;TZID=Pacific/Midway:20210321T150000
CATEGORIES:car, show, cruise-in
LOCATION:Lead Foot City,
WEBSITE:https://www.facebook.com/LeadFootCity/
URL:https://www.facebook.com/LeadFootCity/
CONTACT:(844) 532-3366; rader@leadfootcity.com
ORGANIZER:
ATTACH;FMTTYPE="image/jpeg":https://storage.ning.com/topology/rest/1.0
 /file/get/3817603437?profile=original
ATTENDEE;ROLE=REQ-PARTICIPANT;PARTSTAT=ACCEPTED;RSVP=TRUE;CN="Anthony 
 Hopkins":https://www.southeastwheelsevents.com/profile/AnthonyHopkins
END:VEVENT
END:VCALENDAR
