BEGIN:VCALENDAR
PRODID:NingEventWidget-v1
VERSION:2.0
METHOD:PUBLISH
BEGIN:VTIMEZONE
TZID:Pacific/Midway
X-LIC-LOCATION:Pacific/Midway
BEGIN:STANDARD
TZOFFSETFROM:-1100
TZOFFSETTO:-1100
TZNAME:SST
DTSTART:19700101T000000
END:STANDARD
END:VTIMEZONE
BEGIN:VEVENT
UID:5072275:Event:1194051
DTSTAMP:20260423T225616Z
SUMMARY:Antique Car Show - Clearwater, Fl
DESCRIPTION:This show is organized each Thursday.\n\nFor more informat
 ion visit https://www.southeastwheelsevents.com/events/antique-car-sho
 w-clearwater-fl-1
DTSTART;TZID=Pacific/Midway:20201126T160000
DTEND;TZID=Pacific/Midway:20201126T200000
CATEGORIES:car, show, cruise-in
LOCATION:Quaker Steak and Lube,
WEBSITE:http://t.ly/9m6D
URL:http://t.ly/9m6D
CONTACT:(727) 572-9464
ORGANIZER:
ATTACH;FMTTYPE="image/jpeg":https://storage.ning.com/topology/rest/1.0
 /file/get/3817593152?profile=original
ATTENDEE;ROLE=REQ-PARTICIPANT;PARTSTAT=ACCEPTED;RSVP=TRUE;CN="Anthony 
 Hopkins":https://www.southeastwheelsevents.com/profile/AnthonyHopkins
END:VEVENT
END:VCALENDAR
