BEGIN:VCALENDAR
PRODID:NingEventWidget-v1
VERSION:2.0
METHOD:PUBLISH
BEGIN:VTIMEZONE
TZID:Pacific/Midway
X-LIC-LOCATION:Pacific/Midway
BEGIN:STANDARD
TZOFFSETFROM:-1100
TZOFFSETTO:-1100
TZNAME:SST
DTSTART:19700101T000000
END:STANDARD
END:VTIMEZONE
BEGIN:VEVENT
UID:5072275:Event:1187433
DTSTAMP:20260421T014554Z
SUMMARY:Antique Car Show - Fort Lauderale, Fl
DESCRIPTION:This show is organized from Jan - Mar 2020. And is open fo
 r all muscle cars, street rods, exotics, and classic cars.\n\nFor more
  information visit https://www.southeastwheelsevents.com/events/antiqu
 e-car-show-fort-lauderale-fl-1
DTSTART;TZID=Pacific/Midway:20200328T180000
DTEND;TZID=Pacific/Midway:20200328T213000
CATEGORIES:car, show, cruise-in
LOCATION:Jacks Old Fashion Hamburgers,
WEBSITE:https://www.google.com/maps/place/4201+N+Federal+Hwy,+Fort+Lau
 derdale,+FL+33308,+USA/@26.1793663,-80.1222562,17z/data=!3m1!4b1!4m5!3
 m4!1s0x88d90218acf8c6ef:0x193cce69fc9621c9!8m2!3d26.1793663!4d-80.1200
 675
URL:https://www.google.com/maps/place/4201+N+Federal+Hwy,+Fort+Lauderd
 ale,+FL+33308,+USA/@26.1793663,-80.1222562,17z/data=!3m1!4b1!4m5!3m4!1
 s0x88d90218acf8c6ef:0x193cce69fc9621c9!8m2!3d26.1793663!4d-80.1200675
CONTACT:213-435-2454; create7806@gmail.com
ORGANIZER:
ATTACH;FMTTYPE="image/jpeg":https://storage.ning.com/topology/rest/1.0
 /file/get/3817603437?profile=original
ATTENDEE;ROLE=REQ-PARTICIPANT;PARTSTAT=ACCEPTED;RSVP=TRUE;CN="Anthony 
 Hopkins":https://www.southeastwheelsevents.com/profile/AnthonyHopkins
END:VEVENT
END:VCALENDAR
