BEGIN:VCALENDAR
PRODID:NingEventWidget-v1
VERSION:2.0
METHOD:PUBLISH
BEGIN:VTIMEZONE
TZID:Pacific/Midway
X-LIC-LOCATION:Pacific/Midway
BEGIN:STANDARD
TZOFFSETFROM:-1100
TZOFFSETTO:-1100
TZNAME:SST
DTSTART:19700101T000000
END:STANDARD
END:VTIMEZONE
BEGIN:VEVENT
UID:5072275:Event:1185809
DTSTAMP:20260421T202819Z
SUMMARY:Antique Car Show - Margate, Fl
DESCRIPTION:This show is organized at Anne Marie's Pizza Co. every 1st
  and 3rd Sunday of the month.\nIt is open for all years, makes and mod
 els.\nRegistration for the show is free.\n\nFor more information visit
  https://www.southeastwheelsevents.com/events/antique-car-show-margate
 -fl-1
DTSTART;TZID=Pacific/Midway:20200419T170000
DTEND;TZID=Pacific/Midway:20200419T200000
CATEGORIES:car, show, cruise-in
LOCATION:Anne Marie's Pizza Co,
WEBSITE:https://www.google.com/maps?q=Venue:+Anne+Marie%27s+Pizza+Co.+
 Address:+2403+N+State+Road+7,+Margate,+Florida+33063&amp;amp;amp;amp;a
 mp;amp;amp;amp;amp;amp;amp;um=1&amp;amp;amp;amp;amp;amp;amp;amp;amp;am
 p;amp;ie=UTF-8&amp;amp;amp;amp;amp;amp;amp;amp;amp;amp;amp;sa=X&amp;am
 p;amp;amp;amp;amp;amp;amp;amp;amp;amp;ved=2ahUKEwjgiJaUyYvnAhW_zTgGHQr
 CC0YQ_AUoAXoECBIQAw
URL:https://www.google.com/maps?q=Venue:+Anne+Marie%27s+Pizza+Co.+Addr
 ess:+2403+N+State+Road+7,+Margate,+Florida+33063&amp;amp;amp;amp;amp;a
 mp;amp;amp;amp;amp;amp;um=1&amp;amp;amp;amp;amp;amp;amp;amp;amp;amp;am
 p;ie=UTF-8&amp;amp;amp;amp;amp;amp;amp;amp;amp;amp;amp;sa=X&amp;amp;am
 p;amp;amp;amp;amp;amp;amp;amp;amp;ved=2ahUKEwjgiJaUyYvnAhW_zTgGHQrCC0Y
 Q_AUoAXoECBIQAw
CONTACT:(954) 675-8679; rich@rockinrich.net
ORGANIZER:Rich
ATTACH;FMTTYPE="image/jpeg":https://storage.ning.com/topology/rest/1.0
 /file/get/3817484162?profile=original
ATTENDEE;ROLE=REQ-PARTICIPANT;PARTSTAT=ACCEPTED;RSVP=TRUE;CN="Anthony 
 Hopkins":https://www.southeastwheelsevents.com/profile/AnthonyHopkins
END:VEVENT
END:VCALENDAR
