BEGIN:VCALENDAR
PRODID:NingEventWidget-v1
VERSION:2.0
METHOD:PUBLISH
BEGIN:VTIMEZONE
TZID:Pacific/Midway
X-LIC-LOCATION:Pacific/Midway
BEGIN:STANDARD
TZOFFSETFROM:-1100
TZOFFSETTO:-1100
TZNAME:SST
DTSTART:19700101T000000
END:STANDARD
END:VTIMEZONE
BEGIN:VEVENT
UID:5072275:Event:1201300
DTSTAMP:20260422T164951Z
SUMMARY:Antique Car Show - McDonough, Ga
DESCRIPTION:This car show is organized at the Summit Racing.\n\nFor mo
 re information visit https://www.southeastwheelsevents.com/events/anti
 que-car-show-mcdonough-ga-1
DTSTART;TZID=Pacific/Midway:20201019T180000
DTEND;TZID=Pacific/Midway:20201019T200000
CATEGORIES:car, show, cruise-in, antique, "cars.", vintage, classic, c
 ars, cruise, in, motorcycle, truck
LOCATION:Summit Racing Equipment,
WEBSITE:https://www.summitracing.com/newsandevents/calendar/upcoming/2
 020-monday-night-cruise-10-5-20
URL:https://www.summitracing.com/newsandevents/calendar/upcoming/2020-
 monday-night-cruise-10-5-20
CONTACT:+17702883200
ORGANIZER:
ATTACH;FMTTYPE="image/jpeg":https://storage.ning.com/topology/rest/1.0
 /file/get/3788320342?profile=original
ATTENDEE;ROLE=REQ-PARTICIPANT;PARTSTAT=ACCEPTED;RSVP=TRUE;CN="Anthony 
 Hopkins":https://www.southeastwheelsevents.com/profile/AnthonyHopkins
END:VEVENT
END:VCALENDAR
