BEGIN:VCALENDAR
PRODID:NingEventWidget-v1
VERSION:2.0
METHOD:PUBLISH
BEGIN:VTIMEZONE
TZID:Pacific/Midway
X-LIC-LOCATION:Pacific/Midway
BEGIN:STANDARD
TZOFFSETFROM:-1100
TZOFFSETTO:-1100
TZNAME:SST
DTSTART:19700101T000000
END:STANDARD
END:VTIMEZONE
BEGIN:VEVENT
UID:5072275:Event:1194366
DTSTAMP:20260424T144055Z
SUMMARY:Antique Car Show - Palm Harbor, Fl
DESCRIPTION:This show is organized each Friday at Checkers. It is open
  for all years, makes and models.\n\nFor more information visit https:
 //www.southeastwheelsevents.com/events/antique-car-show-palm-harbor-fl
 -13
DTSTART;TZID=Pacific/Midway:20201009T163000
DTEND;TZID=Pacific/Midway:20201009T220000
CATEGORIES:car, show, cruise-in
LOCATION:Checkers,
WEBSITE:https://www.google.com/maps?client=firefox-b-d&amp;amp;amp;amp
 ;amp;amp;amp;amp;amp;amp;amp;amp;amp;amp;q=33225+U.S.+Highway+19+N,+Pa
 lm+Harbor,+Florida+34684&amp;amp;amp;amp;amp;amp;amp;amp;amp;amp;amp;a
 mp;amp;amp;um=1&amp;amp;amp;amp;amp;amp;amp;amp;amp;amp;amp;amp;amp;am
 p;ie=UTF-8&amp;amp;amp;amp;amp;amp;amp;amp;amp;amp;amp;amp;amp;amp;sa=
 X&amp;amp;amp;amp;amp;amp;amp;amp;amp;amp;amp;amp;amp;amp;ved=2ahUKEwi
 -xt_zjsDnAhXBZSsKHd_LDVUQ_AUoAXoECA0QAw
URL:https://www.google.com/maps?client=firefox-b-d&amp;amp;amp;amp;amp
 ;amp;amp;amp;amp;amp;amp;amp;amp;amp;q=33225+U.S.+Highway+19+N,+Palm+H
 arbor,+Florida+34684&amp;amp;amp;amp;amp;amp;amp;amp;amp;amp;amp;amp;a
 mp;amp;um=1&amp;amp;amp;amp;amp;amp;amp;amp;amp;amp;amp;amp;amp;amp;ie
 =UTF-8&amp;amp;amp;amp;amp;amp;amp;amp;amp;amp;amp;amp;amp;amp;sa=X&am
 p;amp;amp;amp;amp;amp;amp;amp;amp;amp;amp;amp;amp;amp;ved=2ahUKEwi-xt_
 zjsDnAhXBZSsKHd_LDVUQ_AUoAXoECA0QAw
CONTACT:(727) 234-9988; Sharejag@gmail.com
ORGANIZER:
ATTACH;FMTTYPE="image/jpeg":https://storage.ning.com/topology/rest/1.0
 /file/get/3831402668?profile=original
ATTENDEE;ROLE=REQ-PARTICIPANT;PARTSTAT=ACCEPTED;RSVP=TRUE;CN="Anthony 
 Hopkins":https://www.southeastwheelsevents.com/profile/AnthonyHopkins
END:VEVENT
END:VCALENDAR
