BEGIN:VCALENDAR
PRODID:NingEventWidget-v1
VERSION:2.0
METHOD:PUBLISH
BEGIN:VTIMEZONE
TZID:Pacific/Midway
X-LIC-LOCATION:Pacific/Midway
BEGIN:STANDARD
TZOFFSETFROM:-1100
TZOFFSETTO:-1100
TZNAME:SST
DTSTART:19700101T000000
END:STANDARD
END:VTIMEZONE
BEGIN:VEVENT
UID:5072275:Event:1201765
DTSTAMP:20260423T153031Z
SUMMARY:ANtique Car Show - Port St. Lucie, Fl
DESCRIPTION:This show is organized each Monday at Culver's Tradition.\
 nThis is free for all makes, years and models of cars and trucks.\n\nF
 or more information visit https://www.southeastwheelsevents.com/events
 /antique-car-show-port-st-lucie-fl-8
DTSTART;TZID=Pacific/Midway:20210329T183000
DTEND;TZID=Pacific/Midway:20210329T203000
CATEGORIES:car, show, cruise-in, antique, "cars.", vintage, classic, c
 ars, cruise, in, motorcycle, truck
LOCATION:Culver's Tradition,
WEBSITE:https://www.culvers.com/restaurants/port-st-lucie-fl-tradition
 -pkwy
URL:https://www.culvers.com/restaurants/port-st-lucie-fl-tradition-pkw
 y
CONTACT:(772) 528-4247; nonamecarclub@outlook.com
ORGANIZER:No Name Car Club Latest
ATTACH;FMTTYPE="image/jpeg":https://storage.ning.com/topology/rest/1.0
 /file/get/3817484162?profile=original
ATTENDEE;ROLE=REQ-PARTICIPANT;PARTSTAT=ACCEPTED;RSVP=TRUE;CN="Anthony 
 Hopkins":https://www.southeastwheelsevents.com/profile/AnthonyHopkins
END:VEVENT
END:VCALENDAR
