BEGIN:VCALENDAR
PRODID:NingEventWidget-v1
VERSION:2.0
METHOD:PUBLISH
BEGIN:VTIMEZONE
TZID:Pacific/Midway
X-LIC-LOCATION:Pacific/Midway
BEGIN:STANDARD
TZOFFSETFROM:-1100
TZOFFSETTO:-1100
TZNAME:SST
DTSTART:19700101T000000
END:STANDARD
END:VTIMEZONE
BEGIN:VEVENT
UID:5072275:Event:1189445
DTSTAMP:20260420T160442Z
SUMMARY:Antique Car Show - Stuart, Fl
DESCRIPTION:This show is organized each month on the fourth saturday.\
 n\nFor more information visit https://www.southeastwheelsevents.com/ev
 ents/antique-car-show-stuart-fl-7
DTSTART;TZID=Pacific/Midway:20200523T080000
DTEND;TZID=Pacific/Midway:20200523T220000
CATEGORIES:car, show, cruise-in
LOCATION:McKee's 37,
WEBSITE:https://www.mckees37.com
URL:https://www.mckees37.com
CONTACT:(844) 852-5300; info@mckees37.com
ORGANIZER:
ATTACH;FMTTYPE="image/jpeg":https://storage.ning.com/topology/rest/1.0
 /file/get/3817511347?profile=original
ATTENDEE;ROLE=REQ-PARTICIPANT;PARTSTAT=ACCEPTED;RSVP=TRUE;CN="Anthony 
 Hopkins":https://www.southeastwheelsevents.com/profile/AnthonyHopkins
END:VEVENT
END:VCALENDAR
