BEGIN:VCALENDAR
PRODID:NingEventWidget-v1
VERSION:2.0
METHOD:PUBLISH
BEGIN:VTIMEZONE
TZID:Pacific/Midway
X-LIC-LOCATION:Pacific/Midway
BEGIN:STANDARD
TZOFFSETFROM:-1100
TZOFFSETTO:-1100
TZNAME:SST
DTSTART:19700101T000000
END:STANDARD
END:VTIMEZONE
BEGIN:VEVENT
UID:5072275:Event:1186289
DTSTAMP:20260423T184035Z
SUMMARY:Antique Car Show - West Palm Beach, Fl
DESCRIPTION:This show is organized each month at the Palm Beach Outlet
 s. It is one of the largest cars and coffee event in the world. It is 
 an occasion for a genuine car fan.\n\nFor more information visit https
 ://www.southeastwheelsevents.com/events/antique-car-show-west-palm-bea
 ch-fl
DTSTART;TZID=Pacific/Midway:20200209T080000
DTEND;TZID=Pacific/Midway:20200209T120000
CATEGORIES:car, show, cruise-in
LOCATION:Palm Beach Outlets,
WEBSITE:https://www.google.com/maps/place/American+Eagle+Outlet/@26.72
 57825,-80.0888765,17z/data=!3m1!4b1!4m5!3m4!1s0x88d8d60f120ff403:0x21e
 59e9f93caf9ea!8m2!3d26.7257825!4d-80.0866878
URL:https://www.google.com/maps/place/American+Eagle+Outlet/@26.725782
 5,-80.0888765,17z/data=!3m1!4b1!4m5!3m4!1s0x88d8d60f120ff403:0x21e59e9
 f93caf9ea!8m2!3d26.7257825!4d-80.0866878
CONTACT:(561) 756-3063; john@carsandcoffeepb.com
ORGANIZER:John
ATTACH;FMTTYPE="image/jpeg":https://storage.ning.com/topology/rest/1.0
 /file/get/3817601207?profile=original
ATTENDEE;ROLE=REQ-PARTICIPANT;PARTSTAT=ACCEPTED;RSVP=TRUE;CN="Anthony 
 Hopkins":https://www.southeastwheelsevents.com/profile/AnthonyHopkins
END:VEVENT
END:VCALENDAR
