BEGIN:VCALENDAR
PRODID:NingEventWidget-v1
VERSION:2.0
METHOD:PUBLISH
BEGIN:VTIMEZONE
TZID:Pacific/Midway
X-LIC-LOCATION:Pacific/Midway
BEGIN:STANDARD
TZOFFSETFROM:-1100
TZOFFSETTO:-1100
TZNAME:SST
DTSTART:19700101T000000
END:STANDARD
END:VTIMEZONE
BEGIN:VEVENT
UID:5072275:Event:1197581
DTSTAMP:20260423T122829Z
SUMMARY:Antique Car Show - Winter Garden, Fl
DESCRIPTION:This show is organized each month on the fourth Saturday.Â
  \n\nFor more information visit https://www.southeastwheelsevents.com/
 events/antique-car-show-winter-garden-fl-2
DTSTART;TZID=Pacific/Midway:20200926T080000
DTEND;TZID=Pacific/Midway:20200926T100000
CATEGORIES:car, show, cruise-in
LOCATION:Village Inn,
WEBSITE:https://www.facebook.com/Winter-Garden-Cars-and-Coffee-8780208
 15584222/
URL:https://www.facebook.com/Winter-Garden-Cars-and-Coffee-87802081558
 4222/
CONTACT:wintergardencandc@gmail.com
ORGANIZER:
ATTACH;FMTTYPE="image/jpeg":https://storage.ning.com/topology/rest/1.0
 /file/get/3828795901?profile=original
ATTENDEE;ROLE=REQ-PARTICIPANT;PARTSTAT=ACCEPTED;RSVP=TRUE;CN="Anthony 
 Hopkins":https://www.southeastwheelsevents.com/profile/AnthonyHopkins
END:VEVENT
END:VCALENDAR
