BEGIN:VCALENDAR
PRODID:NingEventWidget-v1
VERSION:2.0
METHOD:PUBLISH
BEGIN:VTIMEZONE
TZID:Pacific/Midway
X-LIC-LOCATION:Pacific/Midway
BEGIN:STANDARD
TZOFFSETFROM:-1100
TZOFFSETTO:-1100
TZNAME:SST
DTSTART:19700101T000000
END:STANDARD
END:VTIMEZONE
BEGIN:VEVENT
UID:5072275:Event:598283
DTSTAMP:20260423T085034Z
SUMMARY:Collector Car & Motorcycle Show-Berry's Christmas Tree Farm -C
 ovington, GA
DESCRIPTION:Colector Car & Motorcycle Show\n11am - 4pm\n$20 entry fee\
 nI-20 Exit 88 - Almon Road\n\n2015 Car Show Flyer\n\n\nFor more inform
 ation visit https://www.southeastwheelsevents.com/events/antique-car-t
 ractor-show-berry-s-christmas-tree-farm-covington-ga
DTSTART;TZID=Pacific/Midway:20161211T110000
DTEND;TZID=Pacific/Midway:20161211T160000
CATEGORIES:car-show, bike-show, fundraiser, relay, for, life
LOCATION:Berry's Christmas Tree Farm
WEBSITE:http://www.berrystreefarm.com
URL:http://www.berrystreefarm.com
CONTACT:770-602-6003, 770-786-5833
ORGANIZER;CN="Chuck Berry":https://www.southeastwheelsevents.com/profi
 le/ChuckBerry
ATTACH;FMTTYPE="image/jpeg":http://storage.ning.com/topology/rest/1.0/
 file/get/967630644?profile=original
ATTENDEE;ROLE=REQ-PARTICIPANT;PARTSTAT=ACCEPTED;RSVP=TRUE;CN="Chuck Be
 rry":https://www.southeastwheelsevents.com/profile/ChuckBerry
ATTENDEE;ROLE=REQ-PARTICIPANT;PARTSTAT=ACCEPTED;RSVP=TRUE;CN="JACK EDM
 UNDS":https://www.southeastwheelsevents.com/profile/JACKEDMUNDS
ATTENDEE;ROLE=REQ-PARTICIPANT;PARTSTAT=TENTATIVE;RSVP=TRUE;CN="Al Geph
 art":https://www.southeastwheelsevents.com/profile/AlGephart
ATTENDEE;ROLE=REQ-PARTICIPANT;PARTSTAT=TENTATIVE;RSVP=TRUE;CN="Lenny  
    Major":https://www.southeastwheelsevents.com/profile/LennyMajor
ATTENDEE;ROLE=REQ-PARTICIPANT;PARTSTAT=TENTATIVE;RSVP=TRUE;CN="Bill Da
 vis":https://www.southeastwheelsevents.com/profile/BillDavis
END:VEVENT
END:VCALENDAR
