BEGIN:VCALENDAR
PRODID:NingEventWidget-v1
VERSION:2.0
METHOD:PUBLISH
BEGIN:VTIMEZONE
TZID:Pacific/Midway
X-LIC-LOCATION:Pacific/Midway
BEGIN:STANDARD
TZOFFSETFROM:-1100
TZOFFSETTO:-1100
TZNAME:SST
DTSTART:19700101T000000
END:STANDARD
END:VTIMEZONE
BEGIN:VEVENT
UID:5072275:Event:1189004
DTSTAMP:20260420T194405Z
SUMMARY:Antique Cars Cruise In - Port St. Lucie, Fl
DESCRIPTION:This show is organized each Monday. Facilitated by the No 
 Name Car Club.\n\nFor more information visit https://www.southeastwhee
 lsevents.com/events/antique-cars-cruise-in-port-st-lucie-fl
DTSTART;TZID=Pacific/Midway:20200824T183000
DTEND;TZID=Pacific/Midway:20200824T203000
CATEGORIES:car, show, cruise-in
LOCATION:Culver's Tradition,
WEBSITE:https://www.google.com/maps?q=10770+SW+Tradition+Square,+Port+
 St.+Lucie,+Fl&amp;amp;amp;amp;amp;amp;amp;amp;amp;um=1&amp;amp;amp;amp
 ;amp;amp;amp;amp;amp;ie=UTF-8&amp;amp;amp;amp;amp;amp;amp;amp;amp;sa=X
 &amp;amp;amp;amp;amp;amp;amp;amp;amp;ved=2ahUKEwink6WYwcfnAhW8yDgGHaL6
 BpsQ_AUoAXoECA4QAw
URL:https://www.google.com/maps?q=10770+SW+Tradition+Square,+Port+St.+
 Lucie,+Fl&amp;amp;amp;amp;amp;amp;amp;amp;amp;um=1&amp;amp;amp;amp;amp
 ;amp;amp;amp;amp;ie=UTF-8&amp;amp;amp;amp;amp;amp;amp;amp;amp;sa=X&amp
 ;amp;amp;amp;amp;amp;amp;amp;amp;ved=2ahUKEwink6WYwcfnAhW8yDgGHaL6BpsQ
 _AUoAXoECA4QAw
CONTACT:nonamecarclub@outlook.com; (772) 528-4247
ORGANIZER:
ATTACH;FMTTYPE="image/jpeg":https://storage.ning.com/topology/rest/1.0
 /file/get/3817593152?profile=original
ATTENDEE;ROLE=REQ-PARTICIPANT;PARTSTAT=ACCEPTED;RSVP=TRUE;CN="Anthony 
 Hopkins":https://www.southeastwheelsevents.com/profile/AnthonyHopkins
END:VEVENT
END:VCALENDAR
