BEGIN:VCALENDAR
PRODID:NingEventWidget-v1
VERSION:2.0
METHOD:PUBLISH
BEGIN:VTIMEZONE
TZID:Pacific/Midway
X-LIC-LOCATION:Pacific/Midway
BEGIN:STANDARD
TZOFFSETFROM:-1100
TZOFFSETTO:-1100
TZNAME:SST
DTSTART:19700101T000000
END:STANDARD
END:VTIMEZONE
BEGIN:VEVENT
UID:5072275:Event:725712
DTSTAMP:20260425T020232Z
SUMMARY:Antique & Classic Car Show -Beaufort, SC
DESCRIPTION:6th Annual Antique & Classic Car Show -Beaufort, SC\n\nVis
 it us on Facebook at https://www.facebook.com/groups/201848269849047/
 \n\n\nFor more information visit https://www.southeastwheelsevents.com
 /events/antique-classic-car-show-beaufort-sc
DTSTART;TZID=Pacific/Midway:20161203T100000
DTEND;TZID=Pacific/Midway:20161203T140000
CATEGORIES:car-show
LOCATION:Habersahm  Marketplace
WEBSITE:http://classicsofbeaufort.com/
URL:http://classicsofbeaufort.com/
CONTACT:843-770-0349 Rob Hilton
ORGANIZER:Classics of Beaufort
ATTACH;FMTTYPE="image/jpeg":http://storage.ning.com/topology/rest/1.0/
 file/get/967649710?profile=original
ATTENDEE;ROLE=REQ-PARTICIPANT;PARTSTAT=ACCEPTED;RSVP=TRUE;CN="Chuck Aa
 ron":https://www.southeastwheelsevents.com/profile/ChuckAaron
ATTENDEE;ROLE=REQ-PARTICIPANT;PARTSTAT=ACCEPTED;RSVP=TRUE;CN="Michael 
 Thies":https://www.southeastwheelsevents.com/profile/MichaelThies
END:VEVENT
END:VCALENDAR
