BEGIN:VCALENDAR
PRODID:NingEventWidget-v1
VERSION:2.0
METHOD:PUBLISH
BEGIN:VTIMEZONE
TZID:Pacific/Midway
X-LIC-LOCATION:Pacific/Midway
BEGIN:STANDARD
TZOFFSETFROM:-1100
TZOFFSETTO:-1100
TZNAME:SST
DTSTART:19700101T000000
END:STANDARD
END:VTIMEZONE
BEGIN:VEVENT
UID:5072275:Event:1006547
DTSTAMP:20260421T102723Z
SUMMARY:Antiques Among The Antiques, Ellisville, FL
DESCRIPTION:The Third Annual Car, Truck, Motorcycle Show and Swap Meet
  on Saturday November 5, 2016 9AM to 3PM. Â This event is being held a
 t Webbs Antique Mall, 245 SW Webbs Glen, in Ellisville just off I-75 a
 t exit 414. Vendors of quality antiques and classic automobilia and pa
 rts are also invited. Vehicle registration and Vendor registration for
 ms are available at: https://webbscarshowandswapmeet.wordpress.com/ , 
 Â or by email request to verlonwebb@gmail.com or donspot01-carshow@yah
 oo.com. You may also visit the mall or phone for information at 386-75
 8-5564. Vehicle pre-registration is $20.00 and must be received before
  October 20, 2015. After that date the fee is $25.00. A vendor space i
 s $25.00 and is approximately 12 ft. x 20 ft. Vendor spaces are reserv
 ed on a first come first serve basis. Â  Â  Â  Â  Â  Â  Â  Â  Â  Â  Â 
  Â  Â  Â  Â  Â  Â  Â  Â  Â  Â  Â  Food, drinks and snacks will be avai
 lable at the new restaurant inside the mall. Â  Â  Â  Â  Â  Â  Â  Â  Â
   Â  Â  Â  Â  Â  Â  Â  Â  Â  Â  Â  Â  Â  Â  Â  Â  Music presented by M
 obile DJ Scott Carroll. Â  Â  Â  Â  Â  Â  Â  Â  Â  Â  Â  Â  Â  Â  Â  Â
   Â  Â  Â  Â  Â  Â  Â  Â  Â  Â  Â  Â  Â  Â  Â  Â  Â  Â  Â  Â  Â  Â  Â 
  Â  Â  Â  Â  Â  Â Â \n\nFor more information visit https://www.southea
 stwheelsevents.com/events/antiques-among-the-antiques-ellisville-fl
DTSTART;TZID=Pacific/Midway:20161105T090000
DTEND;TZID=Pacific/Midway:20161105T150000
CATEGORIES:car, show, and, swap, meet
LOCATION:Webbs Antique Mall
WEBSITE:http://at https://webbscarshowandswapmeet.wordpress.com
URL:http://at https://webbscarshowandswapmeet.wordpress.com
CONTACT:386-758-5564
ORGANIZER:Verlon Webb
ATTACH;FMTTYPE="image/jpeg":
ATTENDEE;ROLE=REQ-PARTICIPANT;PARTSTAT=ACCEPTED;RSVP=TRUE;CN="Don Rein
 hardt":https://www.southeastwheelsevents.com/profile/DonReinhardt
END:VEVENT
END:VCALENDAR
