BEGIN:VCALENDAR
PRODID:NingEventWidget-v1
VERSION:2.0
METHOD:PUBLISH
BEGIN:VTIMEZONE
TZID:Pacific/Midway
X-LIC-LOCATION:Pacific/Midway
BEGIN:STANDARD
TZOFFSETFROM:-1100
TZOFFSETTO:-1100
TZNAME:SST
DTSTART:19700101T000000
END:STANDARD
END:VTIMEZONE
BEGIN:VEVENT
UID:5072275:Event:896417
DTSTAMP:20260425T115354Z
SUMMARY:Antiques & Rod Club Weekly Cruise In -Kingsport, TN
DESCRIPTION:\n\nFor more information visit https://www.southeastwheels
 events.com/events/antiques-rod-club-weekly-cruise-in-kingsport-tn-1
DTSTART;TZID=Pacific/Midway:20150612T180000
DTEND;TZID=Pacific/Midway:20150612T213000
CATEGORIES:cruise-in
LOCATION:Trader's Village Parking Lot
WEBSITE:http://kingsportantiqueandrodclub.com/events.html
URL:http://kingsportantiqueandrodclub.com/events.html
CONTACT:Mike Smith carshow@kar-club.com
ORGANIZER:Antiques & Rod Club
ATTACH;FMTTYPE="image/jpeg":http://storage.ning.com/topology/rest/1.0/
 file/get/967685513?profile=original
ATTENDEE;ROLE=REQ-PARTICIPANT;PARTSTAT=ACCEPTED;RSVP=TRUE;CN="Chuck Aa
 ron":https://www.southeastwheelsevents.com/profile/ChuckAaron
END:VEVENT
END:VCALENDAR
