BEGIN:VCALENDAR
PRODID:NingEventWidget-v1
VERSION:2.0
METHOD:PUBLISH
BEGIN:VTIMEZONE
TZID:Pacific/Midway
X-LIC-LOCATION:Pacific/Midway
BEGIN:STANDARD
TZOFFSETFROM:-1100
TZOFFSETTO:-1100
TZNAME:SST
DTSTART:19700101T000000
END:STANDARD
END:VTIMEZONE
BEGIN:VEVENT
UID:5072275:Event:1189893
DTSTAMP:20260423T101518Z
SUMMARY:APPLE COUNTRY CRUISE IN
DESCRIPTION:Please join us for our monthly cruise nights on the 2nd Fr
 iday of the month, April-September. 5pm-8pm.  Location is the Walmart 
 parking lot at the Highland Crossing Shopping Center. The address is 8
 8 Highland Crossing, Ellijay, GA 30540.  We will have food, drinks, mu
 sic, and door prizes. Location is within walking distance to several r
 estaurants.  Come out and bring your vehicle. All makes and models wel
 come! If you don’t have a vehicle to show, please come and walk arou
 nd to enjoy the cars, trucks, and motorcycles from classic to new. Ple
 ase join us to see some awesome cars and to meet new friends. \n\nFor 
 more information visit https://www.southeastwheelsevents.com/events/ap
 ple-country-cruise-in-2
DTSTART;TZID=Pacific/Midway:20200612T170000
DTEND;TZID=Pacific/Midway:20200612T200000
CATEGORIES:monthly, cruise, in
LOCATION:ELIJAY WALMART - HIGHLAND CROSSING S / C
WEBSITE:
URL:
CONTACT:
ORGANIZER:APPLE COUNTRY AUTO CLUB
ATTACH;FMTTYPE="image/jpeg":https://storage.ning.com/topology/rest/1.0
 /file/get/3938801442?profile=original
ATTENDEE;ROLE=REQ-PARTICIPANT;PARTSTAT=TENTATIVE;RSVP=TRUE;CN="Jeffrey
  Rutherford":https://www.southeastwheelsevents.com/profile/JeffreyRuth
 erford866
END:VEVENT
END:VCALENDAR
