BEGIN:VCALENDAR
PRODID:NingEventWidget-v1
VERSION:2.0
METHOD:PUBLISH
BEGIN:VTIMEZONE
TZID:Pacific/Midway
X-LIC-LOCATION:Pacific/Midway
BEGIN:STANDARD
TZOFFSETFROM:-1100
TZOFFSETTO:-1100
TZNAME:SST
DTSTART:19700101T000000
END:STANDARD
END:VTIMEZONE
BEGIN:VEVENT
UID:5072275:Event:1041047
DTSTAMP:20260422T141912Z
SUMMARY:April Fools Kids Night + Weekly Racing (Kids FREE)
DESCRIPTION:Kids 12 & under get in absolutely FREE on one condition - 
 you have to promise no April Fools pranks! Weekly Racing in Pure Stoc
 k, Street Stock, Hobby Stock, Modifieds, Stingers, & Strictly Stocks.\
 n\nFor more information visit https://www.southeastwheelsevents.com/ev
 ents/april-fools-kids-night-weekly-racing-kids-free
DTSTART;TZID=Pacific/Midway:20170401T000000
DTEND;TZID=Pacific/Midway:20170401T235900
CATEGORIES:race
LOCATION:DEEP SOUTH SPEEDWAY
WEBSITE:http://www.deepsouthspeedway.net/
URL:http://www.deepsouthspeedway.net/
CONTACT:
ORGANIZER:
ATTACH;FMTTYPE="image/jpeg":http://storage.ning.com/topology/rest/1.0/
 file/get/967737095?profile=original
ATTENDEE;ROLE=REQ-PARTICIPANT;PARTSTAT=ACCEPTED;RSVP=TRUE;CN="Christop
 her Gosney":https://www.southeastwheelsevents.com/profile/ChristopherG
 osney
END:VEVENT
END:VCALENDAR
