BEGIN:VCALENDAR
PRODID:NingEventWidget-v1
VERSION:2.0
METHOD:PUBLISH
BEGIN:VTIMEZONE
TZID:Pacific/Midway
X-LIC-LOCATION:Pacific/Midway
BEGIN:STANDARD
TZOFFSETFROM:-1100
TZOFFSETTO:-1100
TZNAME:SST
DTSTART:19700101T000000
END:STANDARD
END:VTIMEZONE
BEGIN:VEVENT
UID:5072275:Event:265026
DTSTAMP:20260425T062125Z
SUMMARY:Athens on the Square Car Show -Athens, AL
DESCRIPTION:show%20Flier-2.jpg\nShow%20Flier-1.jpg\n\nFor more informa
 tion visit https://www.southeastwheelsevents.com/events/athens-on-the-
 square-car-show
DTSTART;TZID=Pacific/Midway:20110604T080000
DTEND;TZID=Pacific/Midway:20110604T150000
CATEGORIES:charitable, organizations, to, receive, "profits."
LOCATION:On the Historic Square in Downtown Athens, AL.
WEBSITE:http://www.carsonthesquare.com
URL:http://www.carsonthesquare.com
CONTACT:2564579179
ORGANIZER;CN="Tom Schuman":https://www.southeastwheelsevents.com/profi
 le/TomSchuman
ATTACH;FMTTYPE="image/jpeg":
ATTENDEE;ROLE=REQ-PARTICIPANT;PARTSTAT=ACCEPTED;RSVP=TRUE;CN="Tom Schu
 man":https://www.southeastwheelsevents.com/profile/TomSchuman
END:VEVENT
END:VCALENDAR
