BEGIN:VCALENDAR
PRODID:NingEventWidget-v1
VERSION:2.0
METHOD:PUBLISH
BEGIN:VTIMEZONE
TZID:Pacific/Midway
X-LIC-LOCATION:Pacific/Midway
BEGIN:STANDARD
TZOFFSETFROM:-1100
TZOFFSETTO:-1100
TZNAME:SST
DTSTART:19700101T000000
END:STANDARD
END:VTIMEZONE
BEGIN:VEVENT
UID:5072275:Event:780580
DTSTAMP:20260423T123709Z
SUMMARY:Atlanta Driving Experience at Atlanta Motorsports Park, Dawson
 ville, GA
DESCRIPTION:Why Attend the Atlanta Driving Experience?\n \nLooking fo
 r a unique opportunity to drive one of the world’s fastest and unpar
 alleled  supercars, The Ariel Atom?  Atlanta Driving Experience has 
 an opportunity for you.  We invite you to take advantage of the oppor
 tunity to push the limits of the car and yourself on one of the most t
 echnical road circuits around.  Our instructors are motorsports profe
 ssionals who are passionate about what they do. \n \nHalf-Day Level 
 1— $525 per person\n \n\nIntroductory Classroom Session on Performa
 nce Driving and Safety\nThree 15 Minute Sessions on Track\nRefreshment
 s Provided Throughout Session\nSwag Bag Which Includes an Atom T-Shirt
 \nOptional On-Board HD Video Footage Available for Just $30 Per Person
 \n\n \n*All sessions are lead/follow behind a pace car\n \n\nFor mor
 e information visit https://www.southeastwheelsevents.com/events/atlan
 ta-driving-experience-at-atlanta-motorsports-park-2
DTSTART;TZID=Pacific/Midway:20160609T083000
DTEND;TZID=Pacific/Midway:20160609T173000
CATEGORIES:half, day, driving, experience
LOCATION:Atlanta Motorsports Park
WEBSITE:
URL:
CONTACT:678-546-3133
ORGANIZER;CN="Amanda Plante":https://www.southeastwheelsevents.com/pro
 file/AmandaPlante
ATTACH;FMTTYPE="image/jpeg":http://storage.ning.com/topology/rest/1.0/
 file/get/967664915?profile=original
ATTENDEE;ROLE=REQ-PARTICIPANT;PARTSTAT=ACCEPTED;RSVP=TRUE;CN="Amanda P
 lante":https://www.southeastwheelsevents.com/profile/AmandaPlante
END:VEVENT
END:VCALENDAR
