BEGIN:VCALENDAR
PRODID:NingEventWidget-v1
VERSION:2.0
METHOD:PUBLISH
BEGIN:VTIMEZONE
TZID:Pacific/Midway
X-LIC-LOCATION:Pacific/Midway
BEGIN:STANDARD
TZOFFSETFROM:-1100
TZOFFSETTO:-1100
TZNAME:SST
DTSTART:19700101T000000
END:STANDARD
END:VTIMEZONE
BEGIN:VEVENT
UID:5072275:Event:1077426
DTSTAMP:20260423T065330Z
SUMMARY:Atlanta International Auto Show- Atlanta, GA
DESCRIPTION:\r\n\r\nThe 41st Annual Atlanta International Auto Show wi
 ll return to the Georgia World Congress Center (GWCC). It is produced 
 by the Metro Atlanta Automobile Dealers Association (MAADA).\r\n\r\nNo
 t only is the Atlanta International Auto Show the largest annual consu
 mer event held at the GWCC, it is also one of the nation’s great aut
 o shows, attracting many of the world’s major automotive manufacture
 rs during its five day run.\n\nFor more information visit https://www.
 southeastwheelsevents.com/events/atlanta-international-auto-show-1
DTSTART;TZID=Pacific/Midway:20230323T000000
DTEND;TZID=Pacific/Midway:20230325T235900
CATEGORIES:auto, show, spectacle
LOCATION:Georgia World Congress Center
WEBSITE:http://www.goautoshow.com
URL:http://www.goautoshow.com
CONTACT:404-446-0631
ORGANIZER:Metro Atlanta Automobile Dealers Association
ATTACH;FMTTYPE="image/jpeg":http://storage.ning.com/topology/rest/1.0/
 file/get/967764658?profile=original
ATTENDEE;ROLE=REQ-PARTICIPANT;PARTSTAT=ACCEPTED;RSVP=TRUE;CN="Betsy Gr
 iffin":https://www.southeastwheelsevents.com/profile/BetsyGriffin
ATTENDEE;ROLE=REQ-PARTICIPANT;PARTSTAT=ACCEPTED;RSVP=TRUE;CN="Chuck Aa
 ron":https://www.southeastwheelsevents.com/profile/ChuckAaron886
ATTENDEE;ROLE=REQ-PARTICIPANT;PARTSTAT=ACCEPTED;RSVP=TRUE;CN="Michael 
 Thies":https://www.southeastwheelsevents.com/profile/MichaelThies
ATTENDEE;ROLE=REQ-PARTICIPANT;PARTSTAT=TENTATIVE;RSVP=TRUE;CN="Bill mu
 sarra":https://www.southeastwheelsevents.com/profile/billmusarra
END:VEVENT
END:VCALENDAR
