BEGIN:VCALENDAR
PRODID:NingEventWidget-v1
VERSION:2.0
METHOD:PUBLISH
BEGIN:VTIMEZONE
TZID:Pacific/Midway
X-LIC-LOCATION:Pacific/Midway
BEGIN:STANDARD
TZOFFSETFROM:-1100
TZOFFSETTO:-1100
TZNAME:SST
DTSTART:19700101T000000
END:STANDARD
END:VTIMEZONE
BEGIN:VEVENT
UID:5072275:Event:193141
DTSTAMP:20260425T163643Z
SUMMARY:Atlanta International Auto Show -Atlanta, GA
DESCRIPTION:Atlanta International Auto Show Information\nLocation: Geo
 rgia World Congress Center\nC Building 235 Northside Drive (next to Ge
 orgia Dome) Atlanta, GA 30313 DATES: MARCH 13 - 17, 2013 Â Â Â Â Â \nC
 lick for Directions Click for Parking Information\nDESCRIPTION\nAnnual
  showcase of over 400 new 2013 import and domestic cars, light trucks,
  vans and sports utility vehicles.Â  There will be Factory and Dealer 
 Representatives on hand to answer questions. â€¢ 31 different lines of
  cars & trucks represented. â€¢ Largest public event for area auto dea
 lers. â€¢ Vehicles to suit every budget. â€¢ Wide variety of styles: l
 uxury cars, economy cars, family cars, sports cars, hybrids, electric 
 vehicles, convertibles, limited production cars, light trucks, vans an
 d 4-wheel drive vehicles.\nPARTICIPATING LINES\nACURA, AUDI, BUICK, BM
 W, CADILLAC, CHEVROLET, CHRYSLER, DODGE, FIAT, FISKER, FORD, GMC, HOND
 A, HYUNDAI,Â  INFINITI, JEEP,Â  KIA, LEXUS, LINCOLN, MAZDA, MINI, NISS
 AN, RAM, SCION, SPRINTER, SUBARU, TOYOTA, VOLKSWAGEN, & VOLVO. Â Â Â Â
  Â \nSHOW HOURS\nWednesday, March 13Â Â  12:00 noon - 9:00 p.m. Thursd
 ay, March 14Â Â  12:00 noon - 9:00 p.m. Friday, March 15Â Â  12:00 noo
 n - 10:00 p.m. Saturday, March 16Â Â  10:00 a.m. - 10:00 p.m. Sunday, 
 March 17Â Â  10:00 a.m. - 8:00 p.m.\nBOX OFFICE CLOSES ONE HOUR PRIOR 
 TO SHOW CLOSING DAILY.\nTICKET PRICES:\n$10.00 ADULTS $5.00 CHILDREN 6
 -12 FREE - CHILDREN UNDER 6\nTELEPHONE\n770-916-1741\nEMAIL\nautoshow@
 maada.com\n\n\nFor more information visit https://www.southeastwheelse
 vents.com/events/atlanta-international-auto
DTSTART;TZID=Pacific/Midway:20130313T000000
DTEND;TZID=Pacific/Midway:20130317T235900
CATEGORIES:auto, show
LOCATION:Georgia International Congress Center Building C
WEBSITE:http://www.goautoshow.com
URL:http://www.goautoshow.com
CONTACT:770-916-1741
ORGANIZER:autoshow@maada.com
ATTACH;FMTTYPE="image/jpeg":http://storage.ning.com/topology/rest/1.0/
 file/get/967590296?profile=original
ATTENDEE;ROLE=REQ-PARTICIPANT;PARTSTAT=ACCEPTED;RSVP=TRUE;CN="Gary Whi
 te":https://www.southeastwheelsevents.com/profile/GaryWhite
ATTENDEE;ROLE=REQ-PARTICIPANT;PARTSTAT=ACCEPTED;RSVP=TRUE;CN="Michael 
 Thies":https://www.southeastwheelsevents.com/profile/MichaelThies
END:VEVENT
END:VCALENDAR
