BEGIN:VCALENDAR
PRODID:NingEventWidget-v1
VERSION:2.0
METHOD:PUBLISH
BEGIN:VTIMEZONE
TZID:Pacific/Midway
X-LIC-LOCATION:Pacific/Midway
BEGIN:STANDARD
TZOFFSETFROM:-1100
TZOFFSETTO:-1100
TZNAME:SST
DTSTART:19700101T000000
END:STANDARD
END:VTIMEZONE
BEGIN:VEVENT
UID:5072275:Event:677156
DTSTAMP:20260423T000018Z
SUMMARY:ATLANTA MOTORAMA!! -Hampton, GA
DESCRIPTION:ATLANTA MOTORAMA!!\nGeorgia's Motoring Festival. Open to a
 ll specialty vehicles, Muscle Cars, Exotics, Tuners, Street Rods,Rat R
 ods,Classics, Sports Cars, Trucks, Big Rigs ,Motorcycles, Vintage trai
 lers and boats, Race Cars.\nThe show will consist of a Car Club Gather
 ing,  Manufacturers midway, Swap meet, Car coral, Autocross, Dyno cha
 llenge, Vintage Trailer Park, Bike rally, Pinstriper Panel Jam, Pin up
  contest, Entertainment plus much more.\n\n \n\nFor more information 
 visit https://www.southeastwheelsevents.com/events/atlanta-motorama
DTSTART;TZID=Pacific/Midway:20140426T000000
DTEND;TZID=Pacific/Midway:20140427T235900
CATEGORIES:super-show, full-featured-event
LOCATION:Atlanta Motor Speedway
WEBSITE:http://www.atlantamotorama.com
URL:http://www.atlantamotorama.com
CONTACT:770-491-0155
ORGANIZER;CN="Chas Sydney":https://www.southeastwheelsevents.com/profi
 le/ChasSydney874
ATTACH;FMTTYPE="image/jpeg":http://storage.ning.com/topology/rest/1.0/
 file/get/967642606?profile=original
ATTENDEE;ROLE=REQ-PARTICIPANT;PARTSTAT=ACCEPTED;RSVP=TRUE;CN="Greg Fos
 ter":https://www.southeastwheelsevents.com/profile/GregFoster
ATTENDEE;ROLE=REQ-PARTICIPANT;PARTSTAT=ACCEPTED;RSVP=TRUE;CN="steve an
 d susan seiders":https://www.southeastwheelsevents.com/profile/stevese
 iders
ATTENDEE;ROLE=REQ-PARTICIPANT;PARTSTAT=ACCEPTED;RSVP=TRUE;CN="Jim Bell
 ":https://www.southeastwheelsevents.com/profile/JimBell
ATTENDEE;ROLE=REQ-PARTICIPANT;PARTSTAT=ACCEPTED;RSVP=TRUE;CN="JACK EDM
 UNDS":https://www.southeastwheelsevents.com/profile/JACKEDMUNDS
ATTENDEE;ROLE=REQ-PARTICIPANT;PARTSTAT=ACCEPTED;RSVP=TRUE;CN="Lee Gosn
 ey":https://www.southeastwheelsevents.com/profile/LeeGosney
ATTENDEE;ROLE=REQ-PARTICIPANT;PARTSTAT=ACCEPTED;RSVP=TRUE;CN="Chas Syd
 ney":https://www.southeastwheelsevents.com/profile/ChasSydney874
ATTENDEE;ROLE=REQ-PARTICIPANT;PARTSTAT=ACCEPTED;RSVP=TRUE;CN="Michael 
 Thies":https://www.southeastwheelsevents.com/profile/MichaelThies
ATTENDEE;ROLE=REQ-PARTICIPANT;PARTSTAT=ACCEPTED;RSVP=TRUE;CN="Jim McFa
 rland":https://www.southeastwheelsevents.com/profile/JimMcFarland500
ATTENDEE;ROLE=REQ-PARTICIPANT;PARTSTAT=ACCEPTED;RSVP=TRUE;CN="Taylor H
 ale":https://www.southeastwheelsevents.com/profile/TaylorHale
ATTENDEE;ROLE=REQ-PARTICIPANT;PARTSTAT=ACCEPTED;RSVP=TRUE;CN="Steve We
 st":https://www.southeastwheelsevents.com/profile/SteveWest
ATTENDEE;ROLE=REQ-PARTICIPANT;PARTSTAT=ACCEPTED;RSVP=TRUE;CN="Terry Bu
 hite":https://www.southeastwheelsevents.com/profile/TerryBuhite
ATTENDEE;ROLE=REQ-PARTICIPANT;PARTSTAT=ACCEPTED;RSVP=TRUE;CN="Dan Blac
 k":https://www.southeastwheelsevents.com/profile/DanBlack
ATTENDEE;ROLE=REQ-PARTICIPANT;PARTSTAT=ACCEPTED;RSVP=TRUE;CN="Dave Rod
 riguez":https://www.southeastwheelsevents.com/profile/DaveRodriguez
ATTENDEE;ROLE=REQ-PARTICIPANT;PARTSTAT=TENTATIVE;RSVP=TRUE;CN="JP Brad
 y":https://www.southeastwheelsevents.com/profile/jpbrady
END:VEVENT
END:VCALENDAR
