BEGIN:VCALENDAR
PRODID:NingEventWidget-v1
VERSION:2.0
METHOD:PUBLISH
BEGIN:VTIMEZONE
TZID:Pacific/Midway
X-LIC-LOCATION:Pacific/Midway
BEGIN:STANDARD
TZOFFSETFROM:-1100
TZOFFSETTO:-1100
TZNAME:SST
DTSTART:19700101T000000
END:STANDARD
END:VTIMEZONE
BEGIN:VEVENT
UID:5072275:Event:683057
DTSTAMP:20260423T052451Z
SUMMARY:Atlanta Motorcycle Rally -Hampton, GA
DESCRIPTION:Atlanta Motorcycle Rally\n\n \n\nDATE\nSeptember 19 - Sep
 tember 22, 2013\n\nDIRECTIONS\n1500 Tara Place, Hampton, Georgia\n\nCI
 TY / STATE\nHampton, Georgia (GA)\n\nDESCRIPTION\nThe Atlanta Motorcyc
 le Rally will be held at Altanta Motor Speedway in Hampton, Georgia  
 from September 19th, 2013 to September 22nd, 2013.\nLocation: -Altanta
  Motor Speedway in Hampton, Georgia  (1500 Tara Place, Hampton, Georg
 ia)\nThe purpose of AMR is to rally the different motorcycle organizat
 ions and business throughout the state of Georgia and its surrounding 
 states. The event focuses on riding safety, education, leadership and 
 community outreach. AMR will offer access to over 30,000 bikers and an
  opportunity to showcase products and services used by attendees.\nPle
 ase Contact For More Information: -(770) 866-3829\nWe hope to see you 
 there!\nFor more information about this event, Please see below.\n\n\n
 WEBSITE\nhttp://www.atlantamotorcyclerally.com\n\nEMAIL\ncorporate@atl
 mr.com\n\nPHONE\n770-866-3829\n\n\n\n\nFor more information visit http
 s://www.southeastwheelsevents.com/events/atlanta-motorcycle-rally-hamp
 ton-ga
DTSTART;TZID=Pacific/Midway:20130919T000000
DTEND;TZID=Pacific/Midway:20130922T235900
CATEGORIES:motorcycle-ride, rally
LOCATION:Altanta Motor Speedway
WEBSITE:http://www.atlantamotorcyclerally.com
URL:http://www.atlantamotorcyclerally.com
CONTACT:corporate@atlmr.com 770-866-3829
ORGANIZER;CN="Jack Thomas":https://www.southeastwheelsevents.com/profi
 le/JackThomas
ATTACH;FMTTYPE="image/jpeg":http://storage.ning.com/topology/rest/1.0/
 file/get/967642159?profile=original
ATTENDEE;ROLE=REQ-PARTICIPANT;PARTSTAT=ACCEPTED;RSVP=TRUE;CN="Jack Tho
 mas":https://www.southeastwheelsevents.com/profile/JackThomas
END:VEVENT
END:VCALENDAR
