BEGIN:VCALENDAR
PRODID:NingEventWidget-v1
VERSION:2.0
METHOD:PUBLISH
BEGIN:VTIMEZONE
TZID:Pacific/Midway
X-LIC-LOCATION:Pacific/Midway
BEGIN:STANDARD
TZOFFSETFROM:-1100
TZOFFSETTO:-1100
TZNAME:SST
DTSTART:19700101T000000
END:STANDARD
END:VTIMEZONE
BEGIN:VEVENT
UID:5072275:Event:1117860
DTSTAMP:20260423T171632Z
SUMMARY:Atlanta Region SCCA Autocross Event - Hampton, Ga
DESCRIPTION:Atlanta Region SCCA Autocross Event at Atlanta Motor Speed
 way.\n\nFor more information visit https://www.southeastwheelsevents.c
 om/events/atlanta-region-scca-autocross-event-hampton-ga-4
DTSTART;TZID=Pacific/Midway:20181110T180000
DTEND;TZID=Pacific/Midway:20181111T210000
CATEGORIES:car, show, cruise, in
LOCATION:Atlanta Motor Speedway,
WEBSITE:http://atlantascca.com
URL:http://atlantascca.com
CONTACT:770-455-7222
ORGANIZER:
ATTACH;FMTTYPE="image/jpeg":http://storage.ning.com/topology/rest/1.0/
 file/get/967807983?profile=original
ATTENDEE;ROLE=REQ-PARTICIPANT;PARTSTAT=ACCEPTED;RSVP=TRUE;CN="Anthony 
 Hopkins":https://www.southeastwheelsevents.com/profile/AnthonyHopkins
END:VEVENT
END:VCALENDAR
