BEGIN:VCALENDAR
PRODID:NingEventWidget-v1
VERSION:2.0
METHOD:PUBLISH
BEGIN:VTIMEZONE
TZID:Pacific/Midway
X-LIC-LOCATION:Pacific/Midway
BEGIN:STANDARD
TZOFFSETFROM:-1100
TZOFFSETTO:-1100
TZNAME:SST
DTSTART:19700101T000000
END:STANDARD
END:VTIMEZONE
BEGIN:VEVENT
UID:5072275:Event:643986
DTSTAMP:20260420T081632Z
SUMMARY:ATLANTA RIDE FOR KIDS 30th ANNIVERSARY -Alpharetta, GA
DESCRIPTION:When you join hundreds of other motorcyclists for this sce
 nic ride through the Georgia countryside, you'll have a great time whi
 le raising funds for the PBTF's medical research and family support pr
 ograms! Riders on all makes and models are welcome.\nOnline registrati
 on is open until noon Eastern time on the Friday before the ride. The 
 early bird rate of $40 per motorcycle includes one ticket for the priz
 e drawing.\nOnsite registration opens at 7 a.m. and closes at 9 a.m.\n
 The escorted ride starts at 9:30 a.m. sharp, rain or shine!\nThe ride 
 will end at Lumpkin County High School in Dahlonega.\nWe’re excited 
 to offer Ride for Kids participants a new incentive program this year.
  The more money you raise, the more incentives choices you have! Get a
  collectible event T-shirt for as little as $100 per person. Depending
  on how much more you raise, you’ll qualify for one additional incen
 tive with choices offered at each fundraising level. Learn more »\nPl
 us, for every $300 you raise, you'll be eligible for a drawing for a H
 onda motorcycle and other great prizes (must be present to win). All p
 articipants receive free beverages, a light breakfast and lunch. Plus,
  meet our Ride for Kids “stars,” the local children we help!\nFor 
 more information, call 800-253-6530 or email us.\nThe host hotel is th
 e Residence Inn North Point, 1325 North Point Dr., Alpharetta, GA 3002
 2. Call 770-587-1151 by May 13 to reserve your room at the RFK rate of
  $65/night for a one-bedroom studio suite, or $99/night for a two-bedr
 oom suite.\nCLICK HERE TO REGISTER FOR ATLANTA RIDE FOR KIDS\nMAP TO S
 TART POINT \n\nFor more information visit https://www.southeastwheelse
 vents.com/events/atlanta-ride-for-kids-30th-anniversary-ride
DTSTART;TZID=Pacific/Midway:20130602T093000
DTEND;TZID=Pacific/Midway:20130602T130000
CATEGORIES:motorcycle, ride, and, fundraiser
LOCATION:North Point Mall
WEBSITE:http://pbtf.convio.net/site/TR?fr_id=1162&pg=entry#.UYV9m2zD_I
 U
URL:http://pbtf.convio.net/site/TR?fr_id=1162&pg=entry#.UYV9m2zD_IU
CONTACT:Call Steve Burwell at 678-371-2954
ORGANIZER:PEDIATRIC BRAIN TUMOR FOUNDATION
ATTACH;FMTTYPE="image/jpeg":http://storage.ning.com/topology/rest/1.0/
 file/get/967637891?profile=original
ATTENDEE;ROLE=REQ-PARTICIPANT;PARTSTAT=ACCEPTED;RSVP=TRUE;CN="Harold K
 elman":https://www.southeastwheelsevents.com/profile/HaroldKelman
END:VEVENT
END:VCALENDAR
