BEGIN:VCALENDAR
PRODID:NingEventWidget-v1
VERSION:2.0
METHOD:PUBLISH
BEGIN:VTIMEZONE
TZID:Pacific/Midway
X-LIC-LOCATION:Pacific/Midway
BEGIN:STANDARD
TZOFFSETFROM:-1100
TZOFFSETTO:-1100
TZNAME:SST
DTSTART:19700101T000000
END:STANDARD
END:VTIMEZONE
BEGIN:VEVENT
UID:5072275:Event:1049978
DTSTAMP:20260420T025430Z
SUMMARY:Atlanta Ride for Kids -Cumming, GA
DESCRIPTION:Come join us and our “Stars” of the day, our brain tum
 or survivors and their families, for a ride through the North Georgia 
 countryside. We start from and return to the Cumming Fairgrounds. Upon
  return, we provide lunch and have a presentation with our Stars to fi
 nd out more about them and to see what advancements are being made wit
 h pediatric brain tumor research and treatments.\n\nFor more informati
 on visit https://www.southeastwheelsevents.com/events/atlanta-ride-for
 -kids
DTSTART;TZID=Pacific/Midway:20170604T080000
DTEND;TZID=Pacific/Midway:20170604T140000
CATEGORIES:bikes, show
LOCATION:Cumming Fairgrounds
WEBSITE:http://www.rideforkids.org
URL:http://www.rideforkids.org
CONTACT:800-253-6530  support@rideforkids.org
ORGANIZER:Ride for Kids
ATTACH;FMTTYPE="image/jpeg":http://storage.ning.com/topology/rest/1.0/
 file/get/967748689?profile=original
ATTENDEE;ROLE=REQ-PARTICIPANT;PARTSTAT=ACCEPTED;RSVP=TRUE;CN="Christop
 her Gosney":https://www.southeastwheelsevents.com/profile/ChristopherG
 osney
END:VEVENT
END:VCALENDAR
