BEGIN:VCALENDAR
PRODID:NingEventWidget-v1
VERSION:2.0
METHOD:PUBLISH
BEGIN:VTIMEZONE
TZID:Pacific/Midway
X-LIC-LOCATION:Pacific/Midway
BEGIN:STANDARD
TZOFFSETFROM:-1100
TZOFFSETTO:-1100
TZNAME:SST
DTSTART:19700101T000000
END:STANDARD
END:VTIMEZONE
BEGIN:VEVENT
UID:5072275:Event:646582
DTSTAMP:20260420T042416Z
SUMMARY:Auburn Cruisers Car Show -Auburn, GA
DESCRIPTION:car show 50/50 dj food drinks trophies plaques an more.\n\
 nFor more information visit https://www.southeastwheelsevents.com/even
 ts/auburn-cruisers-car-show-8
DTSTART;TZID=Pacific/Midway:20130602T130000
DTEND;TZID=Pacific/Midway:20130602T170000
CATEGORIES:car, show
LOCATION:aubburn ga
WEBSITE:
URL:
CONTACT:jimmy 6788471668
ORGANIZER:jimmy and art
ATTACH;FMTTYPE="image/jpeg":
ATTENDEE;ROLE=REQ-PARTICIPANT;PARTSTAT=ACCEPTED;RSVP=TRUE;CN="jeff sha
 w":https://www.southeastwheelsevents.com/profile/jeffshaw
ATTENDEE;ROLE=REQ-PARTICIPANT;PARTSTAT=TENTATIVE;RSVP=TRUE;CN="John Ba
 ker":https://www.southeastwheelsevents.com/profile/JohnJBaker
END:VEVENT
END:VCALENDAR
