BEGIN:VCALENDAR
PRODID:NingEventWidget-v1
VERSION:2.0
METHOD:PUBLISH
BEGIN:VTIMEZONE
TZID:Pacific/Midway
X-LIC-LOCATION:Pacific/Midway
BEGIN:STANDARD
TZOFFSETFROM:-1100
TZOFFSETTO:-1100
TZNAME:SST
DTSTART:19700101T000000
END:STANDARD
END:VTIMEZONE
BEGIN:VEVENT
UID:5072275:Event:1169469
DTSTAMP:20260423T094908Z
SUMMARY:AUTO and Aviation EVENT -Duluth, GA
DESCRIPTION:\n\nFor more information visit https://www.southeastwheels
 events.com/events/auto-and-aviation-event-duluth-ga
DTSTART;TZID=Pacific/Midway:20190615T170000
DTEND;TZID=Pacific/Midway:20190615T210000
CATEGORIES:car, show, museum, aviation, networking
LOCATION:Aviation Institute of Maintenance
WEBSITE:https://www.facebook.com/events/397481031104574/
URL:https://www.facebook.com/events/397481031104574/
CONTACT:Jonathan - 470-277-1178
ORGANIZER:Classy Car Squad
ATTACH;FMTTYPE="image/jpeg":https://storage.ning.com/topology/rest/1.0
 /file/get/2857065020?profile=original
ATTENDEE;ROLE=REQ-PARTICIPANT;PARTSTAT=ACCEPTED;RSVP=TRUE;CN="Chuck Aa
 ron":https://www.southeastwheelsevents.com/profile/ChuckAaron886
ATTENDEE;ROLE=REQ-PARTICIPANT;PARTSTAT=ACCEPTED;RSVP=TRUE;CN="Michael 
 Thies":https://www.southeastwheelsevents.com/profile/MichaelThies
ATTENDEE;ROLE=REQ-PARTICIPANT;PARTSTAT=TENTATIVE;RSVP=TRUE;CN="JOE BER
 T":https://www.southeastwheelsevents.com/profile/JOEBERT
ATTENDEE;ROLE=REQ-PARTICIPANT;PARTSTAT=TENTATIVE;RSVP=TRUE;CN="Robert 
 Gates":https://www.southeastwheelsevents.com/profile/RobertGates
END:VEVENT
END:VCALENDAR
