BEGIN:VCALENDAR
PRODID:NingEventWidget-v1
VERSION:2.0
METHOD:PUBLISH
BEGIN:VTIMEZONE
TZID:Pacific/Midway
X-LIC-LOCATION:Pacific/Midway
BEGIN:STANDARD
TZOFFSETFROM:-1100
TZOFFSETTO:-1100
TZNAME:SST
DTSTART:19700101T000000
END:STANDARD
END:VTIMEZONE
BEGIN:VEVENT
UID:5072275:Event:728441
DTSTAMP:20260419T164150Z
SUMMARY:Auto and Moto Show -Clearwater, FL
DESCRIPTION:8th Annual Auto and Moto Show \n\nNational Aviation Acade
 my will be hosting its 8th annual Auto & Moto show. From 9 A.M.-3 P.M.
  This is a family event with raffles, door prizes, food and entertainm
 ent. All proceeds of this event will be donated to JDRF (Juvenile Diab
 etes Research Foundation). Info: Nate Wade 727.531.2080. \n\nFor more
  information visit https://www.southeastwheelsevents.com/events/auto-a
 nd-moto-show-clearwater-fl
DTSTART;TZID=Pacific/Midway:20140111T090000
DTEND;TZID=Pacific/Midway:20140111T150000
CATEGORIES:car-show, fundraiser
LOCATION:National Aviation Academy
WEBSITE:https://www.facebook.com/events/604013796306845/
URL:https://www.facebook.com/events/604013796306845/
CONTACT:Nate Wade 727.531.2080
ORGANIZER:National Aviation Academy
ATTACH;FMTTYPE="image/jpeg":http://storage.ning.com/topology/rest/1.0/
 file/get/967653289?profile=original
ATTENDEE;ROLE=REQ-PARTICIPANT;PARTSTAT=ACCEPTED;RSVP=TRUE;CN="Chuck Aa
 ron":https://www.southeastwheelsevents.com/profile/ChuckAaron
END:VEVENT
END:VCALENDAR
