BEGIN:VCALENDAR
PRODID:NingEventWidget-v1
VERSION:2.0
METHOD:PUBLISH
BEGIN:VTIMEZONE
TZID:Pacific/Midway
X-LIC-LOCATION:Pacific/Midway
BEGIN:STANDARD
TZOFFSETFROM:-1100
TZOFFSETTO:-1100
TZNAME:SST
DTSTART:19700101T000000
END:STANDARD
END:VTIMEZONE
BEGIN:VEVENT
UID:5072275:Event:1236436
DTSTAMP:20260423T002257Z
SUMMARY:Auto Crusade 29. CAR SHOW, AUTOCROSS and CRUISE-IN
DESCRIPTION:CAR SHOW, CRUISE-IN & AUTOCROSS â˜†JUDGED CAR SHOW\nFRIDAY
  AUG 26TH  â˜†AUTOCROSS 8:30-5:00 â˜†CRUISE IN 6:00-9:00\nWILL HAVE DJ
 , CONCESSIONS & HOMEMADE ICE CREAM FRIDAY NIGHT\nSATURDAY AUG 27TH  â˜
 †CAR SHOW 8:00 - 3:00 REGISTRATION 8:00-12:00 AWARDS AROUND 3:00\nâ˜†A
 UTOCROSS 8:00 - 4:00 FASTEST TRUCK & CAR AWARDS\nâ˜†â˜†â˜†GREAT DOOR P
 RIZES â˜†â˜†â˜† 350 MOTOR FROM ANDEAN CHEVROLET  SANDERSON HEADERS  MU
 LTIPLE 200.00 PLUS GIFT CARDS  GIFT CARDS FROM GLASS LIFE  CASH IN ENV
 ELOPES  MORE MORE MORE !\nKIDS HOT WHEELS RACING FREE! AWARDS FOR FAST
 EST GIRL & BOY\nâ˜†METAL BROTHERS HOT RODS SET UP AT SHOW & RUNNING AU
 TOCROSS\nGREAT DAY FOR FAMILIES AND FUN.\nALL PROCEEDS GO TO MT PISGAH
  BAPTIST YOUTH GROUP. IT HELPS FUND GIFTS FOR KIDS AT CHRISTMAS. CHURC
 H CAMP FOR YOUTH & OTHER EVENTS DURING THE YEAR.\nFREE PARKING FREE TO
  ALL SPECTATORS\n\nFor more information visit https://www.southeastwhe
 elsevents.com/events/auto-crusade-29-car-show-autocross-amp-cruise-in
DTSTART;TZID=Pacific/Midway:20220826T090000
DTEND;TZID=Pacific/Midway:20220827T160000
CATEGORIES:fundraiser, for, youth, group, and, needy, kids, christmas,
  gifts
LOCATION:Cumming Fairgrounds Cumming Ga
WEBSITE:http://Www.autocrusadecarshow.com
URL:http://Www.autocrusadecarshow.com
CONTACT:404-788-8415 / 404-372-9637
ORGANIZER:Randy Chester / Danny Bearden
ATTACH;FMTTYPE="image/jpeg":https://storage.ning.com/topology/rest/1.0
 /file/get/10626821696?profile=original
ATTENDEE;ROLE=REQ-PARTICIPANT;PARTSTAT=ACCEPTED;RSVP=TRUE;CN="Randy Ch
 ester":https://www.southeastwheelsevents.com/profile/randychester
END:VEVENT
END:VCALENDAR
