BEGIN:VCALENDAR
PRODID:NingEventWidget-v1
VERSION:2.0
METHOD:PUBLISH
BEGIN:VTIMEZONE
TZID:Pacific/Midway
X-LIC-LOCATION:Pacific/Midway
BEGIN:STANDARD
TZOFFSETFROM:-1100
TZOFFSETTO:-1100
TZNAME:SST
DTSTART:19700101T000000
END:STANDARD
END:VTIMEZONE
BEGIN:VEVENT
UID:5072275:Event:1052803
DTSTAMP:20260423T085651Z
SUMMARY:AUTO MANIA 2017
DESCRIPTION:CAR REGISTRATION BEFORE $20 DAY OF $25.00\n\nFor more info
 rmation visit https://www.southeastwheelsevents.com/events/auto-mania-
 2017
DTSTART;TZID=Pacific/Midway:20170812T100000
DTEND;TZID=Pacific/Midway:20170812T160000
CATEGORIES:car, show
LOCATION:MCCONNELL TALBERT STADIUM
WEBSITE:
URL:
CONTACT:
ORGANIZER:WARNER ROBINS TD CLUB
ATTACH;FMTTYPE="image/jpeg":http://storage.ning.com/topology/rest/1.0/
 file/get/967748630?profile=original
ATTENDEE;ROLE=REQ-PARTICIPANT;PARTSTAT=ACCEPTED;RSVP=TRUE;CN="Lee Gosn
 ey":https://www.southeastwheelsevents.com/profile/LeeGosney
END:VEVENT
END:VCALENDAR
