BEGIN:VCALENDAR
PRODID:NingEventWidget-v1
VERSION:2.0
METHOD:PUBLISH
BEGIN:VTIMEZONE
TZID:Pacific/Midway
X-LIC-LOCATION:Pacific/Midway
BEGIN:STANDARD
TZOFFSETFROM:-1100
TZOFFSETTO:-1100
TZNAME:SST
DTSTART:19700101T000000
END:STANDARD
END:VTIMEZONE
BEGIN:VEVENT
UID:5072275:Event:1257497
DTSTAMP:20260423T014017Z
SUMMARY:Auto Reunion and Motorcycle Show 33rd Annual - Matthews Chambe
 r. Matthews, NC
DESCRIPTION:Monday Sep 2, 20249:00 AM - 3:00 PM EDT\nLabor Day Monday,
  September 2RAIN DOES NOT CANCEL THIS EVENT. CHECK WEBSITE AND FACEBOO
 K PAGE FOR LATEST UPDATES IF NEEDED. ONLINE pre-registration for show
  vehicles closes August 30th @ 5pm, however to save $10, you must pre
 -register prior to August 28th! Day of Show Monday Sept 2 Registrati
 on Opens at 8am in front of the Depot BuildingPLEASE PRE-REGISTER!! T
 HIS HELPS OUR CHECK-IN PROCESS TO BE MUCH LESS CONGESTEDShow 9am-3pmAw
 ards Presentation 2:30pm \n\n\nLocation\nMatthews Town Green - Downto
 wn Matthews, NC For Show Car or Motorcycle Entry Participants -  Ple
 ase plan to enter the Show via the intersection of Trade Street and Ma
 tthews Station Street or E. Matthews St/Matthews-Mint Hill Road and Ji
 ll Lane.   \n210 Matthews Station Street Matthews NC 28105\n\n\n\
 n\n\n\n\nFor more information visit https://www.southeastwheelsevents.
 com/events/auto-reunion-and-motorcycle-show-33rd-annual-matthews-chamb
 er
DTSTART;TZID=Pacific/Midway:20240902T090000
DTEND;TZID=Pacific/Midway:20240902T150000
CATEGORIES:auto, reunion, "&amp", motorcycle, show, -, 33rd, annual
LOCATION:Matthews, NC
WEBSITE:https://members.matthewschamber.org/events/details/matthews-au
 to-reunion-motorcycle-show-2024-14980?calendarMonth=2024-09-01
URL:https://members.matthewschamber.org/events/details/matthews-auto-r
 eunion-motorcycle-show-2024-14980?calendarMonth=2024-09-01
CONTACT:704-847-3649
ORGANIZER;CN="Gillian Baker":https://www.southeastwheelsevents.com/pro
 file/GillianBaker
ATTACH;FMTTYPE="image/jpeg":https://storage.ning.com/topology/rest/1.0
 /file/get/12664162490?profile=original
ATTENDEE;ROLE=REQ-PARTICIPANT;PARTSTAT=ACCEPTED;RSVP=TRUE;CN="Gillian 
 Baker":https://www.southeastwheelsevents.com/profile/GillianBaker
END:VEVENT
END:VCALENDAR
