BEGIN:VCALENDAR
PRODID:NingEventWidget-v1
VERSION:2.0
METHOD:PUBLISH
BEGIN:VTIMEZONE
TZID:Pacific/Midway
X-LIC-LOCATION:Pacific/Midway
BEGIN:STANDARD
TZOFFSETFROM:-1100
TZOFFSETTO:-1100
TZNAME:SST
DTSTART:19700101T000000
END:STANDARD
END:VTIMEZONE
BEGIN:VEVENT
UID:5072275:Event:1056984
DTSTAMP:20260419T200609Z
SUMMARY:Auto Reunion & Motorcycle Show -Matthews, NC
DESCRIPTION:\r\nPlease join us for the 27th Annual Auto Reunion & Moto
 rcycle Show\r\nWhen:   Monday, September 4, 2017 - 9 A.M. to 3 P.M.\r
 \nWhere:   210 Matthews Station Street (Historic Downtown Matthews on
  the Town Green in front of Town Hall/Matthews Library)\r\n\r\nSchedul
 e:   Show Day Registration 8 A.M. to 11 A.M.\r\n              
      Crackle Crank 12:00 P.M.\r\n                   Award
 s Presentation  2 P.M.\r\n\r\nPre-Register by visiting https://matth
 ewschamber.org/photo-galleries/auto-reunion/\r\n\r\nThank you to our T
 itle Sponsor:  Carolinas HealthCare System\r\nThank you to our Silver
  Sponsor:   TwiliteCS Web-Graphic Design\n\nFor more information visi
 t https://www.southeastwheelsevents.com/events/auto-reunion-motorcycle
 -show
DTSTART;TZID=Pacific/Midway:20170904T090000
DTEND;TZID=Pacific/Midway:20170904T150000
CATEGORIES:auto, and, motorcycle, show
LOCATION:Downtown Historic Matthews
WEBSITE:https://matthewschamber.org/photo-galleries/auto-reunion/
URL:https://matthewschamber.org/photo-galleries/auto-reunion/
CONTACT:704-847-3649
ORGANIZER:The Matthews Chamber of Commerce
ATTACH;FMTTYPE="image/jpeg":http://storage.ning.com/topology/rest/1.0/
 file/get/967748845?profile=original
ATTENDEE;ROLE=REQ-PARTICIPANT;PARTSTAT=ACCEPTED;RSVP=TRUE;CN="Chuck Aa
 ron":https://www.southeastwheelsevents.com/profile/ChuckAaron886
ATTENDEE;ROLE=REQ-PARTICIPANT;PARTSTAT=ACCEPTED;RSVP=TRUE;CN="Dawn Sig
 mund":https://www.southeastwheelsevents.com/profile/DawnSigmund
END:VEVENT
END:VCALENDAR
