BEGIN:VCALENDAR
PRODID:NingEventWidget-v1
VERSION:2.0
METHOD:PUBLISH
BEGIN:VTIMEZONE
TZID:Pacific/Midway
X-LIC-LOCATION:Pacific/Midway
BEGIN:STANDARD
TZOFFSETFROM:-1100
TZOFFSETTO:-1100
TZNAME:SST
DTSTART:19700101T000000
END:STANDARD
END:VTIMEZONE
BEGIN:VEVENT
UID:5072275:Event:1188678
DTSTAMP:20260424T071521Z
SUMMARY:Auto Show - Pompano Beach, Fl
DESCRIPTION:This show is organized each month on the second Friday. \
 nFacilitated by Precision Auto Works.\n\nFor more information visit ht
 tps://www.southeastwheelsevents.com/events/auto-show-pompano-beach-fl
DTSTART;TZID=Pacific/Midway:20200214T180000
DTEND;TZID=Pacific/Midway:20200214T210000
CATEGORIES:car, show, cruise-in
LOCATION:Precision Auto Works 3,
WEBSITE:https://www.google.com/maps/place/Precision+Auto+Works/@26.225
 838,-80.1435206,17z/data=!3m1!4b1!4m5!3m4!1s0x88d902b36a7463fb:0x29174
 48465b3808b!8m2!3d26.225838!4d-80.1413319
URL:https://www.google.com/maps/place/Precision+Auto+Works/@26.225838,
 -80.1435206,17z/data=!3m1!4b1!4m5!3m4!1s0x88d902b36a7463fb:0x291744846
 5b3808b!8m2!3d26.225838!4d-80.1413319
CONTACT:(954) 247-9362;
ORGANIZER:Kerry
ATTACH;FMTTYPE="image/jpeg":https://storage.ning.com/topology/rest/1.0
 /file/get/3817484162?profile=original
ATTENDEE;ROLE=REQ-PARTICIPANT;PARTSTAT=ACCEPTED;RSVP=TRUE;CN="Anthony 
 Hopkins":https://www.southeastwheelsevents.com/profile/AnthonyHopkins
END:VEVENT
END:VCALENDAR
