BEGIN:VCALENDAR
PRODID:NingEventWidget-v1
VERSION:2.0
METHOD:PUBLISH
BEGIN:VTIMEZONE
TZID:Pacific/Midway
X-LIC-LOCATION:Pacific/Midway
BEGIN:STANDARD
TZOFFSETFROM:-1100
TZOFFSETTO:-1100
TZNAME:SST
DTSTART:19700101T000000
END:STANDARD
END:VTIMEZONE
BEGIN:VEVENT
UID:5072275:Event:512741
DTSTAMP:20260423T064835Z
SUMMARY:AutoAnything Anniversary Bash - Final Hours -Online
DESCRIPTION:Final Hours...33rd Anniversary Bash - Take 15% off on orde
 rs of $1199 or more! Free Shipping on 99% of all items - no minimum p
 urchase requiredShop Now\n\nFor more information visit https://www.sou
 theastwheelsevents.com/events/autoanything-anniversary-bash-final-hour
 s-online
DTSTART;TZID=Pacific/Midway:20120517T000000
DTEND;TZID=Pacific/Midway:20120518T235900
CATEGORIES:sale
LOCATION:Online on www.AutoAnything.com
WEBSITE:http://www.AutoAnything.com
URL:http://www.AutoAnything.com
CONTACT:
ORGANIZER:www.AutoAnything.com
ATTACH;FMTTYPE="image/jpeg":http://storage.ning.com/topology/rest/1.0/
 file/get/967612176?profile=original
ATTENDEE;ROLE=REQ-PARTICIPANT;PARTSTAT=ACCEPTED;RSVP=TRUE;CN="Michael 
 Thies":https://www.southeastwheelsevents.com/profile/MichaelThies
END:VEVENT
END:VCALENDAR
