BEGIN:VCALENDAR
PRODID:NingEventWidget-v1
VERSION:2.0
METHOD:PUBLISH
BEGIN:VTIMEZONE
TZID:Pacific/Midway
X-LIC-LOCATION:Pacific/Midway
BEGIN:STANDARD
TZOFFSETFROM:-1100
TZOFFSETTO:-1100
TZNAME:SST
DTSTART:19700101T000000
END:STANDARD
END:VTIMEZONE
BEGIN:VEVENT
UID:5072275:Event:508468
DTSTAMP:20260424T145803Z
SUMMARY:AutoBarn Fall Cruise-In -Concord, NC
DESCRIPTION:AutoBarn Swap Meet -Concord, NC\r\nAutoBarn Classic Cars a
 nd Collector Car Storage & SalesÂ was started by a couple of Charlotte
 , NC car collectors who share the same passion as you. Whether you'reÂ
  buying a car,selling a car, or need aÂ project car, we handle all the
  paperwork, phone calls, emails, and negotiations regarding your deal.
  In addition, we assist in transfers, registration, and delivery. We c
 an help you find the properÂ financing, marketing and make sure your c
 lassic car reaches interested buyers worldwide.Â  Email us at absales@
 autobarnclassiccars.com\r\n\n\nFor more information visit https://www.
 southeastwheelsevents.com/events/autobarn-classic-cars-car-show
DTSTART;TZID=Pacific/Midway:20171028T090000
DTEND;TZID=Pacific/Midway:20171028T130000
CATEGORIES:swap, meet, cruise-in
LOCATION:AutoBarn Classic Cars
WEBSITE:http://www.autobarnclassiccars.com
URL:http://www.autobarnclassiccars.com
CONTACT:800-650-1055
ORGANIZER;CN="Judy Wilhelm":https://www.southeastwheelsevents.com/prof
 ile/JudyWilhelm
ATTACH;FMTTYPE="image/jpeg":http://storage.ning.com/topology/rest/1.0/
 file/get/967616205?profile=original
ATTENDEE;ROLE=REQ-PARTICIPANT;PARTSTAT=ACCEPTED;RSVP=TRUE;CN="Chuck Aa
 ron":https://www.southeastwheelsevents.com/profile/ChuckAaron886
ATTENDEE;ROLE=REQ-PARTICIPANT;PARTSTAT=ACCEPTED;RSVP=TRUE;CN="Judy Wil
 helm":https://www.southeastwheelsevents.com/profile/JudyWilhelm
END:VEVENT
END:VCALENDAR
